| Back to Multiple platform build/check report for BioC 3.7 | 
 | 
This page was generated on 2018-10-17 08:52:59 -0400 (Wed, 17 Oct 2018).
| Package 681/1561 | Hostname | OS / Arch | INSTALL | BUILD | CHECK | BUILD BIN | ||||||
| hiAnnotator 1.14.0 Nirav V Malani 
 | malbec2 | Linux (Ubuntu 16.04.1 LTS) / x86_64 | OK | OK | OK |  | ||||||
| tokay2 | Windows Server 2012 R2 Standard / x64 | OK | OK | WARNINGS | OK |  | ||||||
| merida2 | OS X 10.11.6 El Capitan / x86_64 | OK | OK | OK | [ OK ] |  | 
| Package: hiAnnotator | 
| Version: 1.14.0 | 
| Command: rm -rf hiAnnotator.buildbin-libdir && mkdir hiAnnotator.buildbin-libdir && /Users/biocbuild/BBS/utils/build-universal.sh hiAnnotator_1.14.0.tar.gz /Library/Frameworks/R.framework/Versions/Current/Resources/bin/R hiAnnotator.buildbin-libdir | 
| StartedAt: 2018-10-17 01:29:18 -0400 (Wed, 17 Oct 2018) | 
| EndedAt: 2018-10-17 01:30:13 -0400 (Wed, 17 Oct 2018) | 
| EllapsedTime: 54.6 seconds | 
| RetCode: 0 | 
| Status: OK | 
| PackageFile: hiAnnotator_1.14.0.tgz | 
| PackageFileSize: 815.5 KiB | 
############################################################################## ############################################################################## ### ### Running command: ### ### rm -rf hiAnnotator.buildbin-libdir && mkdir hiAnnotator.buildbin-libdir && /Users/biocbuild/BBS/utils/build-universal.sh hiAnnotator_1.14.0.tar.gz /Library/Frameworks/R.framework/Versions/Current/Resources/bin/R hiAnnotator.buildbin-libdir ### ############################################################################## ############################################################################## >>>>>>> >>>>>>> INSTALLATION WITH 'R CMD INSTALL --preclean --no-multiarch --library=hiAnnotator.buildbin-libdir hiAnnotator_1.14.0.tar.gz' >>>>>>> * installing *source* package ‘hiAnnotator’ ... ** R ** data ** inst ** byte-compile and prepare package for lazy loading ** help *** installing help indices ** building package indices ** installing vignettes ** testing if installed package can be loaded * DONE (hiAnnotator)