| Back to Multiple platform build/check report for BioC 3.7 |
|
This page was generated on 2018-10-17 08:36:32 -0400 (Wed, 17 Oct 2018).
| Package 671/1561 | Hostname | OS / Arch | INSTALL | BUILD | CHECK | BUILD BIN | ||||||
| hapFabia 1.22.0 Sepp Hochreiter
| malbec2 | Linux (Ubuntu 16.04.1 LTS) / x86_64 | OK | OK | OK | |||||||
| tokay2 | Windows Server 2012 R2 Standard / x64 | OK | OK | OK | [ OK ] | |||||||
| merida2 | OS X 10.11.6 El Capitan / x86_64 | OK | OK | OK | OK |
| Package: hapFabia |
| Version: 1.22.0 |
| Command: rm -rf hapFabia.buildbin-libdir && mkdir hapFabia.buildbin-libdir && C:\Users\biocbuild\bbs-3.7-bioc\R\bin\R.exe CMD INSTALL --merge-multiarch --build --library=hapFabia.buildbin-libdir hapFabia_1.22.0.tar.gz |
| StartedAt: 2018-10-17 06:29:24 -0400 (Wed, 17 Oct 2018) |
| EndedAt: 2018-10-17 06:30:27 -0400 (Wed, 17 Oct 2018) |
| EllapsedTime: 62.2 seconds |
| RetCode: 0 |
| Status: OK |
| PackageFile: hapFabia_1.22.0.zip |
| PackageFileSize: 1.775 MiB |
##############################################################################
##############################################################################
###
### Running command:
###
### rm -rf hapFabia.buildbin-libdir && mkdir hapFabia.buildbin-libdir && C:\Users\biocbuild\bbs-3.7-bioc\R\bin\R.exe CMD INSTALL --merge-multiarch --build --library=hapFabia.buildbin-libdir hapFabia_1.22.0.tar.gz
###
##############################################################################
##############################################################################
install for i386
* installing *source* package 'hapFabia' ...
** libs
C:/Rtools/mingw_32/bin/gcc -I"C:/Users/BIOCBU˜1/BBS-3˜1.7-B/R/include" -DNDEBUG -I"C:/extsoft/include" -O3 -Wall -std=gnu99 -mtune=generic -c interfaceR.c -o interfaceR.o
C:/Rtools/mingw_32/bin/gcc -I"C:/Users/BIOCBU˜1/BBS-3˜1.7-B/R/include" -DNDEBUG -I"C:/extsoft/include" -O3 -Wall -std=gnu99 -mtune=generic -c split_sparse_matrixB.c -o split_sparse_matrixB.o
C:/Rtools/mingw_32/bin/gcc -I"C:/Users/BIOCBU˜1/BBS-3˜1.7-B/R/include" -DNDEBUG -I"C:/extsoft/include" -O3 -Wall -std=gnu99 -mtune=generic -c vcftoFABIAB.c -o vcftoFABIAB.o
C:/Rtools/mingw_32/bin/gcc -shared -s -static-libgcc -o hapFabia.dll tmp.def interfaceR.o split_sparse_matrixB.o vcftoFABIAB.o -LC:/extsoft/lib/i386 -LC:/extsoft/lib -LC:/Users/BIOCBU˜1/BBS-3˜1.7-B/R/bin/i386 -lR
installing to C:/Users/biocbuild/bbs-3.7-bioc/meat/hapFabia.buildbin-libdir/hapFabia/libs/i386
** R
** data
** inst
** byte-compile and prepare package for lazy loading
** help
*** installing help indices
converting help for package 'hapFabia'
finding HTML links ... done
IBDsegment-class html
IBDsegmentList-class html
IBDsegmentList2excel html
analyzeIBDsegments html
chr1ASW1000G html
compareIBDsegmentLists html
extractIBDsegments html
findDenseRegions html
hapFabia html
hapFabiaVersion html
hapRes html
identifyDuplicates html
iterateIntervals html
makePipelineFile html
matrixPlot html
mergeIBDsegmentLists html
mergedIBDsegmentList html
plotIBDsegment html
res html
setAnnotation html
setStatistics html
sim html
simu html
simulateIBDsegments html
simulateIBDsegmentsFabia html
split_sparse_matrix html
toolsFactorizationClass html
vcftoFABIA html
** building package indices
** installing vignettes
** testing if installed package can be loaded
In R CMD INSTALL
install for x64
* installing *source* package 'hapFabia' ...
** libs
C:/Rtools/mingw_64/bin/gcc -I"C:/Users/BIOCBU˜1/BBS-3˜1.7-B/R/include" -DNDEBUG -I"C:/extsoft/include" -O2 -Wall -std=gnu99 -mtune=generic -c interfaceR.c -o interfaceR.o
C:/Rtools/mingw_64/bin/gcc -I"C:/Users/BIOCBU˜1/BBS-3˜1.7-B/R/include" -DNDEBUG -I"C:/extsoft/include" -O2 -Wall -std=gnu99 -mtune=generic -c split_sparse_matrixB.c -o split_sparse_matrixB.o
C:/Rtools/mingw_64/bin/gcc -I"C:/Users/BIOCBU˜1/BBS-3˜1.7-B/R/include" -DNDEBUG -I"C:/extsoft/include" -O2 -Wall -std=gnu99 -mtune=generic -c vcftoFABIAB.c -o vcftoFABIAB.o
C:/Rtools/mingw_64/bin/gcc -shared -s -static-libgcc -o hapFabia.dll tmp.def interfaceR.o split_sparse_matrixB.o vcftoFABIAB.o -LC:/extsoft/lib/x64 -LC:/extsoft/lib -LC:/Users/BIOCBU˜1/BBS-3˜1.7-B/R/bin/x64 -lR
installing to C:/Users/biocbuild/bbs-3.7-bioc/meat/hapFabia.buildbin-libdir/hapFabia/libs/x64
** testing if installed package can be loaded
* MD5 sums
packaged installation of 'hapFabia' as hapFabia_1.22.0.zip
* DONE (hapFabia)
In R CMD INSTALL
In R CMD INSTALL