| Back to Multiple platform build/check report for BioC 3.7 |
|
This page was generated on 2018-10-17 08:40:13 -0400 (Wed, 17 Oct 2018).
| Package 664/1561 | Hostname | OS / Arch | INSTALL | BUILD | CHECK | BUILD BIN | ||||||
| gtrellis 1.12.1 Zuguang Gu
| malbec2 | Linux (Ubuntu 16.04.1 LTS) / x86_64 | OK | OK | OK | |||||||
| tokay2 | Windows Server 2012 R2 Standard / x64 | OK | OK | WARNINGS | [ OK ] | |||||||
| merida2 | OS X 10.11.6 El Capitan / x86_64 | OK | OK | OK | OK |
| Package: gtrellis |
| Version: 1.12.1 |
| Command: rm -rf gtrellis.buildbin-libdir && mkdir gtrellis.buildbin-libdir && C:\Users\biocbuild\bbs-3.7-bioc\R\bin\R.exe CMD INSTALL --merge-multiarch --build --library=gtrellis.buildbin-libdir gtrellis_1.12.1.tar.gz |
| StartedAt: 2018-10-17 06:29:05 -0400 (Wed, 17 Oct 2018) |
| EndedAt: 2018-10-17 06:29:22 -0400 (Wed, 17 Oct 2018) |
| EllapsedTime: 17.0 seconds |
| RetCode: 0 |
| Status: OK |
| PackageFile: gtrellis_1.12.1.zip |
| PackageFileSize: 1.485 MiB |
##############################################################################
##############################################################################
###
### Running command:
###
### rm -rf gtrellis.buildbin-libdir && mkdir gtrellis.buildbin-libdir && C:\Users\biocbuild\bbs-3.7-bioc\R\bin\R.exe CMD INSTALL --merge-multiarch --build --library=gtrellis.buildbin-libdir gtrellis_1.12.1.tar.gz
###
##############################################################################
##############################################################################
install for i386
* installing *source* package 'gtrellis' ...
** R
** inst
** byte-compile and prepare package for lazy loading
** help
*** installing help indices
converting help for package 'gtrellis'
finding HTML links ... done
add_heatmap_track html
Rd warning: C:/Users/biocbuild/bbs-3.7-bioc/tmpdir/Rtmp4uvfEg/R.INSTALLe5c2eae6a1d/gtrellis/man/add_heatmap_track.rd:14: file link 'GRanges' in package 'GenomicRanges' does not exist and so has been treated as a topic
add_ideogram_track html
add_lines_track html
Rd warning: C:/Users/biocbuild/bbs-3.7-bioc/tmpdir/Rtmp4uvfEg/R.INSTALLe5c2eae6a1d/gtrellis/man/add_lines_track.rd:14: file link 'GRanges' in package 'GenomicRanges' does not exist and so has been treated as a topic
add_points_track html
Rd warning: C:/Users/biocbuild/bbs-3.7-bioc/tmpdir/Rtmp4uvfEg/R.INSTALLe5c2eae6a1d/gtrellis/man/add_points_track.rd:14: file link 'GRanges' in package 'GenomicRanges' does not exist and so has been treated as a topic
add_rect_track html
Rd warning: C:/Users/biocbuild/bbs-3.7-bioc/tmpdir/Rtmp4uvfEg/R.INSTALLe5c2eae6a1d/gtrellis/man/add_rect_track.rd:14: file link 'GRanges' in package 'GenomicRanges' does not exist and so has been treated as a topic
add_segments_track html
Rd warning: C:/Users/biocbuild/bbs-3.7-bioc/tmpdir/Rtmp4uvfEg/R.INSTALLe5c2eae6a1d/gtrellis/man/add_segments_track.rd:14: file link 'GRanges' in package 'GenomicRanges' does not exist and so has been treated as a topic
add_track html
current_track html
get_cell_meta_data html
gtrellis_layout html
Rd warning: C:/Users/biocbuild/bbs-3.7-bioc/tmpdir/Rtmp4uvfEg/R.INSTALLe5c2eae6a1d/gtrellis/man/gtrellis_layout.rd:44: file link 'I' in package 'base' does not exist and so has been treated as a topic
Rd warning: C:/Users/biocbuild/bbs-3.7-bioc/tmpdir/Rtmp4uvfEg/R.INSTALLe5c2eae6a1d/gtrellis/man/gtrellis_layout.rd:57: file link 'grob' in package 'grid' does not exist and so has been treated as a topic
gtrellis_show_index html
** building package indices
** installing vignettes
** testing if installed package can be loaded
In R CMD INSTALL
install for x64
* installing *source* package 'gtrellis' ...
** testing if installed package can be loaded
* MD5 sums
packaged installation of 'gtrellis' as gtrellis_1.12.1.zip
* DONE (gtrellis)
In R CMD INSTALL
In R CMD INSTALL