| Back to Multiple platform build/check report for BioC 3.7 |
|
This page was generated on 2018-10-17 08:32:13 -0400 (Wed, 17 Oct 2018).
| Package 623/1561 | Hostname | OS / Arch | INSTALL | BUILD | CHECK | BUILD BIN | ||||||
| globaltest 5.34.1 Jelle Goeman
| malbec2 | Linux (Ubuntu 16.04.1 LTS) / x86_64 | OK | OK | OK | |||||||
| tokay2 | Windows Server 2012 R2 Standard / x64 | OK | OK | OK | [ OK ] | |||||||
| merida2 | OS X 10.11.6 El Capitan / x86_64 | OK | OK | OK | OK |
| Package: globaltest |
| Version: 5.34.1 |
| Command: rm -rf globaltest.buildbin-libdir && mkdir globaltest.buildbin-libdir && C:\Users\biocbuild\bbs-3.7-bioc\R\bin\R.exe CMD INSTALL --merge-multiarch --build --library=globaltest.buildbin-libdir globaltest_5.34.1.tar.gz |
| StartedAt: 2018-10-17 06:24:26 -0400 (Wed, 17 Oct 2018) |
| EndedAt: 2018-10-17 06:25:49 -0400 (Wed, 17 Oct 2018) |
| EllapsedTime: 83.2 seconds |
| RetCode: 0 |
| Status: OK |
| PackageFile: globaltest_5.34.1.zip |
| PackageFileSize: 1.033 MiB |
##############################################################################
##############################################################################
###
### Running command:
###
### rm -rf globaltest.buildbin-libdir && mkdir globaltest.buildbin-libdir && C:\Users\biocbuild\bbs-3.7-bioc\R\bin\R.exe CMD INSTALL --merge-multiarch --build --library=globaltest.buildbin-libdir globaltest_5.34.1.tar.gz
###
##############################################################################
##############################################################################
install for i386
* installing *source* package 'globaltest' ...
** R
** inst
** byte-compile and prepare package for lazy loading
** help
*** installing help indices
converting help for package 'globaltest'
finding HTML links ... done
comparative html
diagnostics html
genesettesting html
goodnessoffit html
gt html
gt.object-class html
gtoptions html
mlogit html
multtest html
** building package indices
** installing vignettes
** testing if installed package can be loaded
In R CMD INSTALL
install for x64
* installing *source* package 'globaltest' ...
** testing if installed package can be loaded
* MD5 sums
packaged installation of 'globaltest' as globaltest_5.34.1.zip
* DONE (globaltest)
In R CMD INSTALL
In R CMD INSTALL