| Back to Multiple platform build/check report for BioC 3.7 |
|
This page was generated on 2018-10-17 08:35:50 -0400 (Wed, 17 Oct 2018).
| Package 613/1561 | Hostname | OS / Arch | INSTALL | BUILD | CHECK | BUILD BIN | ||||||
| ggbio 1.28.5 Michael Lawrence
| malbec2 | Linux (Ubuntu 16.04.1 LTS) / x86_64 | OK | OK | OK | |||||||
| tokay2 | Windows Server 2012 R2 Standard / x64 | OK | OK | WARNINGS | [ OK ] | |||||||
| merida2 | OS X 10.11.6 El Capitan / x86_64 | OK | OK | OK | OK |
| Package: ggbio |
| Version: 1.28.5 |
| Command: rm -rf ggbio.buildbin-libdir && mkdir ggbio.buildbin-libdir && C:\Users\biocbuild\bbs-3.7-bioc\R\bin\R.exe CMD INSTALL --merge-multiarch --build --library=ggbio.buildbin-libdir ggbio_1.28.5.tar.gz |
| StartedAt: 2018-10-17 06:23:56 -0400 (Wed, 17 Oct 2018) |
| EndedAt: 2018-10-17 06:25:23 -0400 (Wed, 17 Oct 2018) |
| EllapsedTime: 86.3 seconds |
| RetCode: 0 |
| Status: OK |
| PackageFile: ggbio_1.28.5.zip |
| PackageFileSize: 2.821 MiB |
##############################################################################
##############################################################################
###
### Running command:
###
### rm -rf ggbio.buildbin-libdir && mkdir ggbio.buildbin-libdir && C:\Users\biocbuild\bbs-3.7-bioc\R\bin\R.exe CMD INSTALL --merge-multiarch --build --library=ggbio.buildbin-libdir ggbio_1.28.5.tar.gz
###
##############################################################################
##############################################################################
install for i386
* installing *source* package 'ggbio' ...
** R
** inst
** byte-compile and prepare package for lazy loading
Creating a new generic function for 'rescale' in package 'ggbio'
Creating a new generic function for 'xlim' in package 'ggbio'
Creating a new generic function for 'geom_rect' in package 'ggbio'
Creating a new generic function for 'geom_segment' in package 'ggbio'
Creating a new generic function for 'geom_bar' in package 'ggbio'
Creating a new generic function for 'stat_identity' in package 'ggbio'
Creating a new generic function for 'stat_bin' in package 'ggbio'
** help
*** installing help indices
converting help for package 'ggbio'
finding HTML links ... done
Grob-class html
Plot-class html
Tracked-class html
arrangeGrobByParsingLegend html
autoplot-method html
finding level-2 HTML links ... done
geom_alignment-method html
geom_arch-method html
geom_arrow-method html
geom_arrowrect-method html
geom_bar-method html
geom_chevron-method html
geom_rect-method html
geom_segment-method html
ggbio-class html
ggplot-method html
ggsave html
layout_circle-method html
layout_karyogram-method html
nav html
plotFragLength html
plotGrandLinear html
plotRangesLinkedToData html
plotSingleChrom html
plotSpliceSum html
plotStackedOverview html
rescale-method html
scale_fill_fold_change html
scale_fill_giemsa html
scale_x_sequnit html
stat_aggregate-method html
Rd warning: C:/Users/biocbuild/bbs-3.7-bioc/tmpdir/RtmpAt8VjW/R.INSTALL267c7a4c5c92/ggbio/man/stat_aggregate-method.Rd:48: file link 'findOverlaps' in package 'IRanges' does not exist and so has been treated as a topic
stat_bin-method html
stat_coverage-method html
stat_gene-method html
stat_identity-method html
stat_mismatch-method html
stat_reduce-method html
Rd warning: C:/Users/biocbuild/bbs-3.7-bioc/tmpdir/RtmpAt8VjW/R.INSTALL267c7a4c5c92/ggbio/man/stat_reduce-method.Rd:45: file link 'reduce' in package 'IRanges' does not exist and so has been treated as a topic
Rd warning: C:/Users/biocbuild/bbs-3.7-bioc/tmpdir/RtmpAt8VjW/R.INSTALL267c7a4c5c92/ggbio/man/stat_reduce-method.Rd:48: file link 'reduce' in package 'IRanges' does not exist and so has been treated as a topic
Rd warning: C:/Users/biocbuild/bbs-3.7-bioc/tmpdir/RtmpAt8VjW/R.INSTALL267c7a4c5c92/ggbio/man/stat_reduce-method.Rd:51: file link 'reduce' in package 'IRanges' does not exist and so has been treated as a topic
Rd warning: C:/Users/biocbuild/bbs-3.7-bioc/tmpdir/RtmpAt8VjW/R.INSTALL267c7a4c5c92/ggbio/man/stat_reduce-method.Rd:54: file link 'reduce' in package 'IRanges' does not exist and so has been treated as a topic
Rd warning: C:/Users/biocbuild/bbs-3.7-bioc/tmpdir/RtmpAt8VjW/R.INSTALL267c7a4c5c92/ggbio/man/stat_reduce-method.Rd:64: file link 'reduce' in package 'IRanges' does not exist and so has been treated as a topic
stat_slice-method html
Rd warning: C:/Users/biocbuild/bbs-3.7-bioc/tmpdir/RtmpAt8VjW/R.INSTALL267c7a4c5c92/ggbio/man/stat_slice-method.Rd:66: file link 'slice' in package 'IRanges' does not exist and so has been treated as a topic
Rd warning: C:/Users/biocbuild/bbs-3.7-bioc/tmpdir/RtmpAt8VjW/R.INSTALL267c7a4c5c92/ggbio/man/stat_slice-method.Rd:69: file link 'slice' in package 'IRanges' does not exist and so has been treated as a topic
Rd warning: C:/Users/biocbuild/bbs-3.7-bioc/tmpdir/RtmpAt8VjW/R.INSTALL267c7a4c5c92/ggbio/man/stat_slice-method.Rd:72: file link 'slice' in package 'IRanges' does not exist and so has been treated as a topic
Rd warning: C:/Users/biocbuild/bbs-3.7-bioc/tmpdir/RtmpAt8VjW/R.INSTALL267c7a4c5c92/ggbio/man/stat_slice-method.Rd:75: file link 'slice' in package 'IRanges' does not exist and so has been treated as a topic
Rd warning: C:/Users/biocbuild/bbs-3.7-bioc/tmpdir/RtmpAt8VjW/R.INSTALL267c7a4c5c92/ggbio/man/stat_slice-method.Rd:78: file link 'slice' in package 'IRanges' does not exist and so has been treated as a topic
Rd warning: C:/Users/biocbuild/bbs-3.7-bioc/tmpdir/RtmpAt8VjW/R.INSTALL267c7a4c5c92/ggbio/man/stat_slice-method.Rd:85: file link 'slice' in package 'IRanges' does not exist and so has been treated as a topic
stat_stepping-method html
stat_table-method html
theme html
tracks html
** building package indices
** installing vignettes
** testing if installed package can be loaded
In R CMD INSTALL
install for x64
* installing *source* package 'ggbio' ...
** testing if installed package can be loaded
* MD5 sums
packaged installation of 'ggbio' as ggbio_1.28.5.zip
* DONE (ggbio)
In R CMD INSTALL
In R CMD INSTALL