| Back to Multiple platform build/check report for BioC 3.7 | 
 | 
This page was generated on 2018-10-17 08:44:59 -0400 (Wed, 17 Oct 2018).
| Package 609/1561 | Hostname | OS / Arch | INSTALL | BUILD | CHECK | BUILD BIN | ||||||
| gep2pep 1.0.0 Francesco Napolitano 
 | malbec2 | Linux (Ubuntu 16.04.1 LTS) / x86_64 | OK | OK | OK |  | ||||||
| tokay2 | Windows Server 2012 R2 Standard / x64 | OK | OK | OK | [ OK ] |  | ||||||
| merida2 | OS X 10.11.6 El Capitan / x86_64 | OK | OK | OK | OK |  | 
| Package: gep2pep | 
| Version: 1.0.0 | 
| Command: rm -rf gep2pep.buildbin-libdir && mkdir gep2pep.buildbin-libdir && C:\Users\biocbuild\bbs-3.7-bioc\R\bin\R.exe CMD INSTALL --merge-multiarch --build --library=gep2pep.buildbin-libdir gep2pep_1.0.0.tar.gz | 
| StartedAt: 2018-10-17 06:23:48 -0400 (Wed, 17 Oct 2018) | 
| EndedAt: 2018-10-17 06:24:05 -0400 (Wed, 17 Oct 2018) | 
| EllapsedTime: 17.2 seconds | 
| RetCode: 0 | 
| Status: OK | 
| PackageFile: gep2pep_1.0.0.zip | 
| PackageFileSize: 335.6 KiB | 
##############################################################################
##############################################################################
###
### Running command:
###
###   rm -rf gep2pep.buildbin-libdir && mkdir gep2pep.buildbin-libdir && C:\Users\biocbuild\bbs-3.7-bioc\R\bin\R.exe CMD INSTALL --merge-multiarch --build --library=gep2pep.buildbin-libdir gep2pep_1.0.0.tar.gz
###
##############################################################################
##############################################################################
install for i386
* installing *source* package 'gep2pep' ...
** R
** inst
** byte-compile and prepare package for lazy loading
** help
*** installing help indices
  converting help for package 'gep2pep'
    finding HTML links ... done
    CategorizedCollection-class             html  
    CategorizedCollection                   html  
    CondSEA                                 html  
    PathSEA                                 html  
    as.CategorizedCollection                html  
    buildPEPs                               html  
    checkRepository                         html  
    createRepository                        html  
    exportSEA                               html  
    gene2pathways                           html  
    gep2pep-package                         html  
    getCollections                          html  
    getDetails                              html  
    getResults                              html  
    importMSigDB.xml                        html  
    loadCollection                          html  
    loadESmatrix                            html  
    loadPVmatrix                            html  
    loadSampleGEP                           html  
    loadSamplePWS                           html  
    makeCollectionIDs                       html  
    openRepository                          html  
** building package indices
** installing vignettes
** testing if installed package can be loaded
In R CMD INSTALL
install for x64
* installing *source* package 'gep2pep' ...
** testing if installed package can be loaded
* MD5 sums
packaged installation of 'gep2pep' as gep2pep_1.0.0.zip
* DONE (gep2pep)
In R CMD INSTALL
In R CMD INSTALL