| Back to Multiple platform build/check report for BioC 3.7 |
|
This page was generated on 2018-10-17 08:21:45 -0400 (Wed, 17 Oct 2018).
| Package 539/1561 | Hostname | OS / Arch | INSTALL | BUILD | CHECK | BUILD BIN | ||||||
| gaggle 1.48.0 Christopher Bare
| malbec2 | Linux (Ubuntu 16.04.1 LTS) / x86_64 | [ OK ] | OK | OK | |||||||
| tokay2 | Windows Server 2012 R2 Standard / x64 | OK | OK | OK | OK | |||||||
| merida2 | OS X 10.11.6 El Capitan / x86_64 | OK | OK | OK | OK |
| Package: gaggle |
| Version: 1.48.0 |
| Command: /home/biocbuild/bbs-3.7-bioc/R/bin/R CMD INSTALL gaggle |
| StartedAt: 2018-10-15 17:56:59 -0400 (Mon, 15 Oct 2018) |
| EndedAt: 2018-10-15 17:57:05 -0400 (Mon, 15 Oct 2018) |
| EllapsedTime: 6.1 seconds |
| RetCode: 0 |
| Status: OK |
##############################################################################
##############################################################################
###
### Running command:
###
### /home/biocbuild/bbs-3.7-bioc/R/bin/R CMD INSTALL gaggle
###
##############################################################################
##############################################################################
* installing to library ‘/home/biocbuild/bbs-3.7-bioc/R/library’
* installing *source* package ‘gaggle’ ...
** R
** inst
** byte-compile and prepare package for lazy loading
** help
*** installing help indices
** building package indices
** installing vignettes
** testing if installed package can be loaded
onLoad -- libname: /home/biocbuild/bbs-3.7-bioc/R/library pkgname: gaggle
path to jar: /home/biocbuild/bbs-3.7-bioc/R/library/gaggle/jars/gaggleRShell.jar
script: gaggle.R $Revision: 4499 $ $Date: 2010-08-10 17:15:03 -0700 (Tue, 10 Aug 2010) $
os version: Linux
jvm version: 1.8.0_181
You are using the wrong version of Java.
Please see http://gaggle.systemsbiology.org/docs/html/java
* DONE (gaggle)