| Back to Multiple platform build/check report for BioC 3.7 |
|
This page was generated on 2018-10-17 08:43:22 -0400 (Wed, 17 Oct 2018).
| Package 534/1561 | Hostname | OS / Arch | INSTALL | BUILD | CHECK | BUILD BIN | ||||||
| funtooNorm 1.4.0 Kathleen Klein
| malbec2 | Linux (Ubuntu 16.04.1 LTS) / x86_64 | OK | OK | OK | |||||||
| tokay2 | Windows Server 2012 R2 Standard / x64 | OK | OK | OK | [ OK ] | |||||||
| merida2 | OS X 10.11.6 El Capitan / x86_64 | OK | OK | OK | OK |
| Package: funtooNorm |
| Version: 1.4.0 |
| Command: rm -rf funtooNorm.buildbin-libdir && mkdir funtooNorm.buildbin-libdir && C:\Users\biocbuild\bbs-3.7-bioc\R\bin\R.exe CMD INSTALL --merge-multiarch --build --library=funtooNorm.buildbin-libdir funtooNorm_1.4.0.tar.gz |
| StartedAt: 2018-10-17 06:21:02 -0400 (Wed, 17 Oct 2018) |
| EndedAt: 2018-10-17 06:21:43 -0400 (Wed, 17 Oct 2018) |
| EllapsedTime: 40.3 seconds |
| RetCode: 0 |
| Status: OK |
| PackageFile: funtooNorm_1.4.0.zip |
| PackageFileSize: 2.568 MiB |
##############################################################################
##############################################################################
###
### Running command:
###
### rm -rf funtooNorm.buildbin-libdir && mkdir funtooNorm.buildbin-libdir && C:\Users\biocbuild\bbs-3.7-bioc\R\bin\R.exe CMD INSTALL --merge-multiarch --build --library=funtooNorm.buildbin-libdir funtooNorm_1.4.0.tar.gz
###
##############################################################################
##############################################################################
install for i386
* installing *source* package 'funtooNorm' ...
** R
** inst
** byte-compile and prepare package for lazy loading
** help
*** installing help indices
converting help for package 'funtooNorm'
finding HTML links ... done
SampleSet-class html
agreement html
fromGenStudFiles html
fromRGChannelSet html
funtooNorm-package html
funtooNorm html
getGRanges html
getNormBeta html
getNormM html
getRawBeta html
getSnpM html
plotValidationGraph html
show-SampleSet-method html
** building package indices
** installing vignettes
** testing if installed package can be loaded
In R CMD INSTALL
install for x64
* installing *source* package 'funtooNorm' ...
** testing if installed package can be loaded
* MD5 sums
packaged installation of 'funtooNorm' as funtooNorm_1.4.0.zip
* DONE (funtooNorm)
In R CMD INSTALL
In R CMD INSTALL