| Back to Multiple platform build/check report for BioC 3.7 | 
 | 
This page was generated on 2018-10-17 08:48:26 -0400 (Wed, 17 Oct 2018).
| Package 531/1561 | Hostname | OS / Arch | INSTALL | BUILD | CHECK | BUILD BIN | ||||||
| frmaTools 1.32.0 Matthew N. McCall 
 | malbec2 | Linux (Ubuntu 16.04.1 LTS) / x86_64 | OK | OK | OK |  | ||||||
| tokay2 | Windows Server 2012 R2 Standard / x64 | OK | OK | OK | OK |  | ||||||
| merida2 | OS X 10.11.6 El Capitan / x86_64 | OK | OK | OK | [ OK ] |  | 
| Package: frmaTools | 
| Version: 1.32.0 | 
| Command: rm -rf frmaTools.buildbin-libdir && mkdir frmaTools.buildbin-libdir && /Users/biocbuild/BBS/utils/build-universal.sh frmaTools_1.32.0.tar.gz /Library/Frameworks/R.framework/Versions/Current/Resources/bin/R frmaTools.buildbin-libdir | 
| StartedAt: 2018-10-17 01:21:08 -0400 (Wed, 17 Oct 2018) | 
| EndedAt: 2018-10-17 01:21:58 -0400 (Wed, 17 Oct 2018) | 
| EllapsedTime: 49.6 seconds | 
| RetCode: 0 | 
| Status: OK | 
| PackageFile: frmaTools_1.32.0.tgz | 
| PackageFileSize: 128.8 KiB | 
############################################################################## ############################################################################## ### ### Running command: ### ### rm -rf frmaTools.buildbin-libdir && mkdir frmaTools.buildbin-libdir && /Users/biocbuild/BBS/utils/build-universal.sh frmaTools_1.32.0.tar.gz /Library/Frameworks/R.framework/Versions/Current/Resources/bin/R frmaTools.buildbin-libdir ### ############################################################################## ############################################################################## >>>>>>> >>>>>>> INSTALLATION WITH 'R CMD INSTALL --preclean --no-multiarch --library=frmaTools.buildbin-libdir frmaTools_1.32.0.tar.gz' >>>>>>> * installing *source* package ‘frmaTools’ ... ** R ** inst ** byte-compile and prepare package for lazy loading ** help *** installing help indices ** building package indices ** installing vignettes ** testing if installed package can be loaded * DONE (frmaTools)