| Back to Multiple platform build/check report for BioC 3.7 |
|
This page was generated on 2018-10-17 08:34:47 -0400 (Wed, 17 Oct 2018).
| Package 520/1561 | Hostname | OS / Arch | INSTALL | BUILD | CHECK | BUILD BIN | ||||||
| flowTrans 1.32.0 Greg Finak
| malbec2 | Linux (Ubuntu 16.04.1 LTS) / x86_64 | OK | OK | OK | |||||||
| tokay2 | Windows Server 2012 R2 Standard / x64 | OK | OK | OK | [ OK ] | |||||||
| merida2 | OS X 10.11.6 El Capitan / x86_64 | OK | OK | OK | OK |
| Package: flowTrans |
| Version: 1.32.0 |
| Command: rm -rf flowTrans.buildbin-libdir && mkdir flowTrans.buildbin-libdir && C:\Users\biocbuild\bbs-3.7-bioc\R\bin\R.exe CMD INSTALL --merge-multiarch --build --library=flowTrans.buildbin-libdir flowTrans_1.32.0.tar.gz |
| StartedAt: 2018-10-17 06:20:34 -0400 (Wed, 17 Oct 2018) |
| EndedAt: 2018-10-17 06:20:54 -0400 (Wed, 17 Oct 2018) |
| EllapsedTime: 20.5 seconds |
| RetCode: 0 |
| Status: OK |
| PackageFile: flowTrans_1.32.0.zip |
| PackageFileSize: 485.4 KiB |
##############################################################################
##############################################################################
###
### Running command:
###
### rm -rf flowTrans.buildbin-libdir && mkdir flowTrans.buildbin-libdir && C:\Users\biocbuild\bbs-3.7-bioc\R\bin\R.exe CMD INSTALL --merge-multiarch --build --library=flowTrans.buildbin-libdir flowTrans_1.32.0.tar.gz
###
##############################################################################
##############################################################################
install for i386
* installing *source* package 'flowTrans' ...
** R
** inst
** byte-compile and prepare package for lazy loading
** help
*** installing help indices
converting help for package 'flowTrans'
finding HTML links ... done
extractParams html
flowTrans-methods html
flowTrans-package html
flowTrans html
flowTransResult-class html
summary-methods html
summary.flowTransResult html
** building package indices
** installing vignettes
** testing if installed package can be loaded
In R CMD INSTALL
install for x64
* installing *source* package 'flowTrans' ...
** testing if installed package can be loaded
* MD5 sums
packaged installation of 'flowTrans' as flowTrans_1.32.0.zip
* DONE (flowTrans)
In R CMD INSTALL
In R CMD INSTALL