| Back to Multiple platform build/check report for BioC 3.7 |
|
This page was generated on 2018-10-17 08:53:09 -0400 (Wed, 17 Oct 2018).
| Package 504/1561 | Hostname | OS / Arch | INSTALL | BUILD | CHECK | BUILD BIN | ||||||
| flowDensity 1.14.0 Mehrnoush Malek
| malbec2 | Linux (Ubuntu 16.04.1 LTS) / x86_64 | OK | OK | WARNINGS | |||||||
| tokay2 | Windows Server 2012 R2 Standard / x64 | OK | OK | WARNINGS | OK | |||||||
| merida2 | OS X 10.11.6 El Capitan / x86_64 | OK | [ OK ] | WARNINGS | OK |
| Package: flowDensity |
| Version: 1.14.0 |
| Command: /Library/Frameworks/R.framework/Versions/Current/Resources/bin/R CMD build --keep-empty-dirs --no-resave-data flowDensity |
| StartedAt: 2018-10-16 17:30:29 -0400 (Tue, 16 Oct 2018) |
| EndedAt: 2018-10-16 17:30:59 -0400 (Tue, 16 Oct 2018) |
| EllapsedTime: 30.2 seconds |
| RetCode: 0 |
| Status: OK |
| PackageFile: flowDensity_1.14.0.tar.gz |
| PackageFileSize: 6.914 MiB |
##############################################################################
##############################################################################
###
### Running command:
###
### /Library/Frameworks/R.framework/Versions/Current/Resources/bin/R CMD build --keep-empty-dirs --no-resave-data flowDensity
###
##############################################################################
##############################################################################
* checking for file ‘flowDensity/DESCRIPTION’ ... OK
* preparing ‘flowDensity’:
* checking DESCRIPTION meta-information ... OK
* installing the package to build vignettes
* creating vignettes ... OK
Warning: ‘inst/doc’ file
‘flowDensityVignette.pdf’
ignored as vignettes have been rebuilt.
Run R CMD build with --no-build-vignettes to prevent rebuilding.
* checking for LF line-endings in source and make files and shell scripts
* checking for empty or unneeded directories
* building ‘flowDensity_1.14.0.tar.gz’