| Back to Multiple platform build/check report for BioC 3.7 | 
 | 
This page was generated on 2018-10-17 08:38:03 -0400 (Wed, 17 Oct 2018).
| Package 496/1561 | Hostname | OS / Arch | INSTALL | BUILD | CHECK | BUILD BIN | ||||||
| flowBin 1.16.0 Kieran O'Neill 
 | malbec2 | Linux (Ubuntu 16.04.1 LTS) / x86_64 | OK | OK | OK |  | ||||||
| tokay2 | Windows Server 2012 R2 Standard / x64 | OK | OK | OK | [ OK ] |  | ||||||
| merida2 | OS X 10.11.6 El Capitan / x86_64 | OK | OK | OK | OK |  | 
| Package: flowBin | 
| Version: 1.16.0 | 
| Command: rm -rf flowBin.buildbin-libdir && mkdir flowBin.buildbin-libdir && C:\Users\biocbuild\bbs-3.7-bioc\R\bin\R.exe CMD INSTALL --merge-multiarch --build --library=flowBin.buildbin-libdir flowBin_1.16.0.tar.gz | 
| StartedAt: 2018-10-17 06:19:42 -0400 (Wed, 17 Oct 2018) | 
| EndedAt: 2018-10-17 06:20:00 -0400 (Wed, 17 Oct 2018) | 
| EllapsedTime: 18.0 seconds | 
| RetCode: 0 | 
| Status: OK | 
| PackageFile: flowBin_1.16.0.zip | 
| PackageFileSize: 549.7 KiB | 
##############################################################################
##############################################################################
###
### Running command:
###
###   rm -rf flowBin.buildbin-libdir && mkdir flowBin.buildbin-libdir && C:\Users\biocbuild\bbs-3.7-bioc\R\bin\R.exe CMD INSTALL --merge-multiarch --build --library=flowBin.buildbin-libdir flowBin_1.16.0.tar.gz
###
##############################################################################
##############################################################################
install for i386
* installing *source* package 'flowBin' ...
** R
** data
** inst
** byte-compile and prepare package for lazy loading
** help
*** installing help indices
  converting help for package 'flowBin'
    finding HTML links ... done
    BinnedFlowSample                        html  
    FlowSample                              html  
    amlsample                               html  
    checkQNorm                              html  
    eventsInBins                            html  
    flowBin                                 html  
    flowFPBin                               html  
    getBinExpr                              html  
    kMeansBin                               html  
    mapBinsKNN                              html  
    quantileNormalise                       html  
    removeSparseBins                        html  
    show-methods                            html  
** building package indices
** installing vignettes
** testing if installed package can be loaded
In R CMD INSTALL
install for x64
* installing *source* package 'flowBin' ...
** testing if installed package can be loaded
* MD5 sums
packaged installation of 'flowBin' as flowBin_1.16.0.zip
* DONE (flowBin)
In R CMD INSTALL
In R CMD INSTALL