| Back to Multiple platform build/check report for BioC 3.7 | 
 | 
This page was generated on 2018-10-17 08:53:51 -0400 (Wed, 17 Oct 2018).
| Package 475/1561 | Hostname | OS / Arch | INSTALL | BUILD | CHECK | BUILD BIN | ||||||
| facopy 1.14.0 David Mosen-Ansorena 
 | malbec2 | Linux (Ubuntu 16.04.1 LTS) / x86_64 | ERROR | ERROR | skipped | |||||||
| tokay2 | Windows Server 2012 R2 Standard / x64 | ERROR | ERROR | skipped | skipped | |||||||
| merida2 | OS X 10.11.6 El Capitan / x86_64 | ERROR | [ ERROR ] | skipped | skipped | 
| Package: facopy | 
| Version: 1.14.0 | 
| Command: /Library/Frameworks/R.framework/Versions/Current/Resources/bin/R CMD build --keep-empty-dirs --no-resave-data facopy | 
| StartedAt: 2018-10-16 17:40:51 -0400 (Tue, 16 Oct 2018) | 
| EndedAt: 2018-10-16 17:41:03 -0400 (Tue, 16 Oct 2018) | 
| EllapsedTime: 12.1 seconds | 
| RetCode: 1 | 
| Status: ERROR | 
| PackageFile: None | 
| PackageFileSize: NA | 
##############################################################################
##############################################################################
###
### Running command:
###
###   /Library/Frameworks/R.framework/Versions/Current/Resources/bin/R CMD build --keep-empty-dirs --no-resave-data facopy
###
##############################################################################
##############################################################################
* checking for file ‘facopy/DESCRIPTION’ ... OK
* preparing ‘facopy’:
* checking DESCRIPTION meta-information ... OK
* installing the package to build vignettes
      -----------------------------------
* installing *source* package ‘facopy’ ...
** R
** data
** inst
** byte-compile and prepare package for lazy loading
Error : object ‘setting.graph.attributes’ is not exported by 'namespace:DOSE'
ERROR: lazy loading failed for package ‘facopy’
* removing ‘/private/tmp/Rtmp8LaZrk/Rinst8f0b3f2b7367/facopy’
      -----------------------------------
ERROR: package installation failed