| Back to Multiple platform build/check report for BioC 3.7 | 
 | 
This page was generated on 2018-10-17 08:33:31 -0400 (Wed, 17 Oct 2018).
| Package 471/1561 | Hostname | OS / Arch | INSTALL | BUILD | CHECK | BUILD BIN | ||||||
| explorase 1.44.0 Michael Lawrence 
 | malbec2 | Linux (Ubuntu 16.04.1 LTS) / x86_64 | OK | OK | OK |  | ||||||
| tokay2 | Windows Server 2012 R2 Standard / x64 | OK | OK | OK | [ OK ] |  | ||||||
| merida2 | OS X 10.11.6 El Capitan / x86_64 | ...NOT SUPPORTED... | ||||||||||
| Package: explorase | 
| Version: 1.44.0 | 
| Command: rm -rf explorase.buildbin-libdir && mkdir explorase.buildbin-libdir && C:\Users\biocbuild\bbs-3.7-bioc\R\bin\R.exe --arch i386 CMD INSTALL --no-multiarch --build --library=explorase.buildbin-libdir explorase_1.44.0.tar.gz | 
| StartedAt: 2018-10-17 06:18:52 -0400 (Wed, 17 Oct 2018) | 
| EndedAt: 2018-10-17 06:19:01 -0400 (Wed, 17 Oct 2018) | 
| EllapsedTime: 8.7 seconds | 
| RetCode: 0 | 
| Status: OK | 
| PackageFile: explorase_1.44.0.zip | 
| PackageFileSize: 1.263 MiB | 
##############################################################################
##############################################################################
###
### Running command:
###
###   rm -rf explorase.buildbin-libdir && mkdir explorase.buildbin-libdir && C:\Users\biocbuild\bbs-3.7-bioc\R\bin\R.exe --arch i386 CMD INSTALL --no-multiarch --build --library=explorase.buildbin-libdir explorase_1.44.0.tar.gz
###
##############################################################################
##############################################################################
* installing *source* package 'explorase' ...
** R
** inst
** byte-compile and prepare package for lazy loading
** help
*** installing help indices
  converting help for package 'explorase'
    finding HTML links ... done
    exp-addEntityType-vx                    html  
    exp-addFilterRule-rn                    html  
    exp-calcAngleDist-31                    html  
    exp-calcCanberraDist                    html  
    exp-calcCorrelationDist-45              html  
    exp-calcDiff-y4                         html  
    exp-calcEuclideanDist-dn                html  
    exp-calcMahalanobisDist-r1              html  
    exp-calcResiduals-ps                    html  
    exp-calcZeroCorDist-by                  html  
    exp-close                               html  
    exp-colorEntities-1h                    html  
    exp-dataset-6l                          html  
    exp-designFactors-72                    html  
    exp-designFrame-d0                      html  
    exp-designSelection-5s                  html  
    exp-entitiesInList-df                   html  
    exp-entityFrame-4j                      html  
    exp-entitySelection-11                  html  
    exp-entityType-69                       html  
    exp-entityTypes-9e                      html  
    exp-filterRules-vt                      html  
    exp-findPatterns-yw                     html  
    exp-ggobi-69                            html  
    exp-isRunning-fo                        html  
    exp-listFrame-gp                        html  
    exp-listSelection                       html  
    exp-loadData-bo                         html  
    exp-loadDesign-35                       html  
    exp-loadFiles-1w                        html  
    exp-loadInfo-gk                         html  
    exp-loadLists-pr                        html  
    exp-loadProject-1g                      html  
    exp-newList-bs                          html  
    exp-removeFilterRules-1i                html  
    exp-showClustering-b7                   html  
    exp-showPatterns-bh                     html  
    exp-showResults-sk                      html  
    exp-toggleFilterRules-ts                html  
    exp_bioc                                html  
    explorase                               html  
** building package indices
** installing vignettes
** testing if installed package can be loaded
* MD5 sums
packaged installation of 'explorase' as explorase_1.44.0.zip
* DONE (explorase)
In R CMD INSTALL