| Back to Multiple platform build/check report for BioC 3.7 |
|
This page was generated on 2018-10-17 08:44:16 -0400 (Wed, 17 Oct 2018).
| Package 456/1561 | Hostname | OS / Arch | INSTALL | BUILD | CHECK | BUILD BIN | ||||||
| epivizrChart 1.2.0 Hector Corrada Bravo
| malbec2 | Linux (Ubuntu 16.04.1 LTS) / x86_64 | OK | OK | WARNINGS | |||||||
| tokay2 | Windows Server 2012 R2 Standard / x64 | OK | OK | WARNINGS | [ OK ] | |||||||
| merida2 | OS X 10.11.6 El Capitan / x86_64 | OK | OK | WARNINGS | OK |
| Package: epivizrChart |
| Version: 1.2.0 |
| Command: rm -rf epivizrChart.buildbin-libdir && mkdir epivizrChart.buildbin-libdir && C:\Users\biocbuild\bbs-3.7-bioc\R\bin\R.exe CMD INSTALL --merge-multiarch --build --library=epivizrChart.buildbin-libdir epivizrChart_1.2.0.tar.gz |
| StartedAt: 2018-10-17 06:18:07 -0400 (Wed, 17 Oct 2018) |
| EndedAt: 2018-10-17 06:19:03 -0400 (Wed, 17 Oct 2018) |
| EllapsedTime: 55.2 seconds |
| RetCode: 0 |
| Status: OK |
| PackageFile: epivizrChart_1.2.0.zip |
| PackageFileSize: 5.227 MiB |
##############################################################################
##############################################################################
###
### Running command:
###
### rm -rf epivizrChart.buildbin-libdir && mkdir epivizrChart.buildbin-libdir && C:\Users\biocbuild\bbs-3.7-bioc\R\bin\R.exe CMD INSTALL --merge-multiarch --build --library=epivizrChart.buildbin-libdir epivizrChart_1.2.0.tar.gz
###
##############################################################################
##############################################################################
install for i386
* installing *source* package 'epivizrChart' ...
** R
** data
*** moving datasets to lazyload DB
** inst
** byte-compile and prepare package for lazy loading
** help
*** installing help indices
converting help for package 'epivizrChart'
finding HTML links ... done
EpivizBlocksTrack-class html
EpivizChart-class html
Rd warning: C:/Users/biocbuild/bbs-3.7-bioc/tmpdir/Rtmp6fNAtj/R.INSTALL288c3486840/epivizrChart/man/EpivizChart-class.Rd:20: file link 'EpivizEnvironment' in package 'epivizrChart' does not exist and so has been treated as a topic
EpivizChartDataMgr-class html
EpivizDataSource-class html
EpivizEnvironment-class html
Rd warning: C:/Users/biocbuild/bbs-3.7-bioc/tmpdir/Rtmp6fNAtj/R.INSTALL288c3486840/epivizrChart/man/EpivizEnvironment-class.Rd:14: file link 'EpivizViewComponent' in package 'epivizrChart' does not exist and so has been treated as a topic
Rd warning: C:/Users/biocbuild/bbs-3.7-bioc/tmpdir/Rtmp6fNAtj/R.INSTALL288c3486840/epivizrChart/man/EpivizEnvironment-class.Rd:18: file link 'EpivizDataSource' in package 'epivizrChart' does not exist and so has been treated as a topic
EpivizGenesTrack-class html
EpivizHeatmapPlot-class html
EpivizLinePlot-class html
EpivizLineTrack-class html
EpivizNavigation-class html
Rd warning: C:/Users/biocbuild/bbs-3.7-bioc/tmpdir/Rtmp6fNAtj/R.INSTALL288c3486840/epivizrChart/man/EpivizNavigation-class.Rd:18: file link 'EpivizEnvironment' in package 'epivizrChart' does not exist and so has been treated as a topic
EpivizScatterPlot-class html
EpivizStackedLinePlot-class html
EpivizStackedLineTrack-class html
EpivizViewComponent-class html
Rd warning: C:/Users/biocbuild/bbs-3.7-bioc/tmpdir/Rtmp6fNAtj/R.INSTALL288c3486840/epivizrChart/man/EpivizViewComponent-class.Rd:20: file link 'EpivizMeasurement' in package 'epivizrData' does not exist and so has been treated as a topic
EpivizWebComponent-class html
Rd warning: C:/Users/biocbuild/bbs-3.7-bioc/tmpdir/Rtmp6fNAtj/R.INSTALL288c3486840/epivizrChart/man/EpivizWebComponent-class.Rd:14: file link 'EpivizChartDataMgr' in package 'epivizrChart' does not exist and so has been treated as a topic
chart_default_settings_colors html
epivizChart html
Rd warning: C:/Users/biocbuild/bbs-3.7-bioc/tmpdir/Rtmp6fNAtj/R.INSTALL288c3486840/epivizrChart/man/epivizChart.Rd:12: file link 'EpivizData' in package 'epivizrData' does not exist and so has been treated as a topic
Rd warning: C:/Users/biocbuild/bbs-3.7-bioc/tmpdir/Rtmp6fNAtj/R.INSTALL288c3486840/epivizrChart/man/epivizChart.Rd:14: file link 'EpivizMeasurement' in package 'epivizrData' does not exist and so has been treated as a topic
Rd warning: C:/Users/biocbuild/bbs-3.7-bioc/tmpdir/Rtmp6fNAtj/R.INSTALL288c3486840/epivizrChart/man/epivizChart.Rd:18: file link 'EpivizEnvironment' in package 'epivizrChart' does not exist and so has been treated as a topic
Rd warning: C:/Users/biocbuild/bbs-3.7-bioc/tmpdir/Rtmp6fNAtj/R.INSTALL288c3486840/epivizrChart/man/epivizChart.Rd:18: file link 'EpivizNavigation' in package 'epivizrChart' does not exist and so has been treated as a topic
epivizEnv html
Rd warning: C:/Users/biocbuild/bbs-3.7-bioc/tmpdir/Rtmp6fNAtj/R.INSTALL288c3486840/epivizrChart/man/epivizEnv.Rd:5: file link 'EpivizEnvironment' in package 'epivizrChart' does not exist and so has been treated as a topic
Rd warning: C:/Users/biocbuild/bbs-3.7-bioc/tmpdir/Rtmp6fNAtj/R.INSTALL288c3486840/epivizrChart/man/epivizEnv.Rd:25: file link 'EpivizEnvironment' in package 'epivizrChart' does not exist and so has been treated as a topic
Rd warning: C:/Users/biocbuild/bbs-3.7-bioc/tmpdir/Rtmp6fNAtj/R.INSTALL288c3486840/epivizrChart/man/epivizEnv.Rd:19: file link 'EpivizWebComponent' in package 'epivizrChart' does not exist and so has been treated as a topic
Rd warning: C:/Users/biocbuild/bbs-3.7-bioc/tmpdir/Rtmp6fNAtj/R.INSTALL288c3486840/epivizrChart/man/epivizEnv.Rd:22: file link 'EpivizEnvironment' in package 'epivizrChart' does not exist and so has been treated as a topic
epivizNav html
Rd warning: C:/Users/biocbuild/bbs-3.7-bioc/tmpdir/Rtmp6fNAtj/R.INSTALL288c3486840/epivizrChart/man/epivizNav.Rd:5: file link 'EpivizNavigation' in package 'epivizrChart' does not exist and so has been treated as a topic
Rd warning: C:/Users/biocbuild/bbs-3.7-bioc/tmpdir/Rtmp6fNAtj/R.INSTALL288c3486840/epivizrChart/man/epivizNav.Rd:24: file link 'EpivizNavigation' in package 'epivizrChart' does not exist and so has been treated as a topic
Rd warning: C:/Users/biocbuild/bbs-3.7-bioc/tmpdir/Rtmp6fNAtj/R.INSTALL288c3486840/epivizrChart/man/epivizNav.Rd:16: file link 'EpivizEnvironment' in package 'epivizrChart' does not exist and so has been treated as a topic
Rd warning: C:/Users/biocbuild/bbs-3.7-bioc/tmpdir/Rtmp6fNAtj/R.INSTALL288c3486840/epivizrChart/man/epivizNav.Rd:16: file link 'EpivizNavigation' in package 'epivizrChart' does not exist and so has been treated as a topic
Rd warning: C:/Users/biocbuild/bbs-3.7-bioc/tmpdir/Rtmp6fNAtj/R.INSTALL288c3486840/epivizrChart/man/epivizNav.Rd:21: file link 'EpivizNavigation' in package 'epivizrChart' does not exist and so has been treated as a topic
json_parser html
finding level-2 HTML links ... done
json_writer html
rand_id html
tcga_colon_blocks html
Rd warning: C:/Users/biocbuild/bbs-3.7-bioc/tmpdir/Rtmp6fNAtj/R.INSTALL288c3486840/epivizrChart/man/tcga_colon_blocks.Rd:7: file link 'GRanges' in package 'GenomicRanges' does not exist and so has been treated as a topic
Rd warning: C:/Users/biocbuild/bbs-3.7-bioc/tmpdir/Rtmp6fNAtj/R.INSTALL288c3486840/epivizrChart/man/tcga_colon_blocks.Rd:29: file link 'GRanges' in package 'GenomicRanges' does not exist and so has been treated as a topic
tcga_colon_curves html
Rd warning: C:/Users/biocbuild/bbs-3.7-bioc/tmpdir/Rtmp6fNAtj/R.INSTALL288c3486840/epivizrChart/man/tcga_colon_curves.Rd:7: file link 'GRanges' in package 'GenomicRanges' does not exist and so has been treated as a topic
Rd warning: C:/Users/biocbuild/bbs-3.7-bioc/tmpdir/Rtmp6fNAtj/R.INSTALL288c3486840/epivizrChart/man/tcga_colon_curves.Rd:25: file link 'GRanges' in package 'GenomicRanges' does not exist and so has been treated as a topic
tcga_colon_expression html
Rd warning: C:/Users/biocbuild/bbs-3.7-bioc/tmpdir/Rtmp6fNAtj/R.INSTALL288c3486840/epivizrChart/man/tcga_colon_expression.Rd:23: file link 'RangedSummarizedExperiment' in package 'SummarizedExperiment' does not exist and so has been treated as a topic
Rd warning: C:/Users/biocbuild/bbs-3.7-bioc/tmpdir/Rtmp6fNAtj/R.INSTALL288c3486840/epivizrChart/man/tcga_colon_expression.Rd:7: file link 'RangedSummarizedExperiment' in package 'SummarizedExperiment' does not exist and so has been treated as a topic
Rd warning: C:/Users/biocbuild/bbs-3.7-bioc/tmpdir/Rtmp6fNAtj/R.INSTALL288c3486840/epivizrChart/man/tcga_colon_expression.Rd:20: file link 'RangedSummarizedExperiment' in package 'SummarizedExperiment' does not exist and so has been treated as a topic
** building package indices
** installing vignettes
** testing if installed package can be loaded
In R CMD INSTALL
install for x64
* installing *source* package 'epivizrChart' ...
** testing if installed package can be loaded
* MD5 sums
packaged installation of 'epivizrChart' as epivizrChart_1.2.0.zip
* DONE (epivizrChart)
In R CMD INSTALL
In R CMD INSTALL