| Back to Multiple platform build/check report for BioC 3.7 |
|
This page was generated on 2018-10-17 08:40:12 -0400 (Wed, 17 Oct 2018).
| Package 449/1561 | Hostname | OS / Arch | INSTALL | BUILD | CHECK | BUILD BIN | ||||||
| ensembldb 2.4.1 Johannes Rainer
| malbec2 | Linux (Ubuntu 16.04.1 LTS) / x86_64 | OK | OK | ERROR | |||||||
| tokay2 | Windows Server 2012 R2 Standard / x64 | [ OK ] | OK | OK | OK | |||||||
| merida2 | OS X 10.11.6 El Capitan / x86_64 | OK | OK | OK | OK |
| Package: ensembldb |
| Version: 2.4.1 |
| Command: C:\cygwin\bin\curl.exe -O https://malbec2.bioconductor.org/BBS/3.7/bioc/src/contrib/ensembldb_2.4.1.tar.gz && rm -rf ensembldb.buildbin-libdir && mkdir ensembldb.buildbin-libdir && C:\Users\biocbuild\bbs-3.7-bioc\R\bin\R.exe CMD INSTALL --merge-multiarch --build --library=ensembldb.buildbin-libdir ensembldb_2.4.1.tar.gz && C:\Users\biocbuild\bbs-3.7-bioc\R\bin\R.exe CMD INSTALL ensembldb_2.4.1.zip && rm ensembldb_2.4.1.tar.gz ensembldb_2.4.1.zip |
| StartedAt: 2018-10-16 19:57:08 -0400 (Tue, 16 Oct 2018) |
| EndedAt: 2018-10-16 19:58:29 -0400 (Tue, 16 Oct 2018) |
| EllapsedTime: 80.4 seconds |
| RetCode: 0 |
| Status: OK |
##############################################################################
##############################################################################
###
### Running command:
###
### C:\cygwin\bin\curl.exe -O https://malbec2.bioconductor.org/BBS/3.7/bioc/src/contrib/ensembldb_2.4.1.tar.gz && rm -rf ensembldb.buildbin-libdir && mkdir ensembldb.buildbin-libdir && C:\Users\biocbuild\bbs-3.7-bioc\R\bin\R.exe CMD INSTALL --merge-multiarch --build --library=ensembldb.buildbin-libdir ensembldb_2.4.1.tar.gz && C:\Users\biocbuild\bbs-3.7-bioc\R\bin\R.exe CMD INSTALL ensembldb_2.4.1.zip && rm ensembldb_2.4.1.tar.gz ensembldb_2.4.1.zip
###
##############################################################################
##############################################################################
% Total % Received % Xferd Average Speed Time Time Time Current
Dload Upload Total Spent Left Speed
0 0 0 0 0 0 0 0 --:--:-- --:--:-- --:--:-- 0
100 1243k 100 1243k 0 0 16.3M 0 --:--:-- --:--:-- --:--:-- 17.8M
install for i386
* installing *source* package 'ensembldb' ...
** R
** inst
** byte-compile and prepare package for lazy loading
** help
*** installing help indices
converting help for package 'ensembldb'
finding HTML links ... done
Deprecated html
EnsDb-AnnotationDbi html
EnsDb-class html
EnsDb-exonsBy html
finding level-2 HTML links ... done
EnsDb-lengths html
EnsDb-seqlevels html
EnsDb-sequences html
EnsDb-utils html
EnsDb html
Filter-classes html
ProteinFunctionality html
cdsToTranscript html
convertFilter html
genomeToProtein html
genomeToTranscript html
global-filters html
hasProteinData-EnsDb-method html
listEnsDbs html
makeEnsemblDbPackage html
proteinToGenome html
proteinToTranscript html
runEnsDbApp html
transcriptToCds html
transcriptToGenome html
transcriptToProtein html
useMySQL-EnsDb-method html
** building package indices
** installing vignettes
** testing if installed package can be loaded
In R CMD INSTALL
install for x64
* installing *source* package 'ensembldb' ...
** testing if installed package can be loaded
* MD5 sums
packaged installation of 'ensembldb' as ensembldb_2.4.1.zip
* DONE (ensembldb)
In R CMD INSTALL
In R CMD INSTALL
* installing to library 'C:/Users/biocbuild/bbs-3.7-bioc/R/library'
package 'ensembldb' successfully unpacked and MD5 sums checked
In R CMD INSTALL