Back to Multiple platform build/check report for BioC 3.7 |
|
This page was generated on 2018-10-17 08:38:15 -0400 (Wed, 17 Oct 2018).
Package 417/1561 | Hostname | OS / Arch | INSTALL | BUILD | CHECK | BUILD BIN | ||||||
dualKS 1.40.0 Eric J. Kort
| malbec2 | Linux (Ubuntu 16.04.1 LTS) / x86_64 | OK | OK | OK | |||||||
tokay2 | Windows Server 2012 R2 Standard / x64 | OK | OK | OK | [ OK ] | |||||||
merida2 | OS X 10.11.6 El Capitan / x86_64 | OK | OK | OK | OK |
Package: dualKS |
Version: 1.40.0 |
Command: rm -rf dualKS.buildbin-libdir && mkdir dualKS.buildbin-libdir && C:\Users\biocbuild\bbs-3.7-bioc\R\bin\R.exe CMD INSTALL --merge-multiarch --build --library=dualKS.buildbin-libdir dualKS_1.40.0.tar.gz |
StartedAt: 2018-10-17 06:16:39 -0400 (Wed, 17 Oct 2018) |
EndedAt: 2018-10-17 06:16:52 -0400 (Wed, 17 Oct 2018) |
EllapsedTime: 13.0 seconds |
RetCode: 0 |
Status: OK |
PackageFile: dualKS_1.40.0.zip |
PackageFileSize: 511.9 KiB |
############################################################################## ############################################################################## ### ### Running command: ### ### rm -rf dualKS.buildbin-libdir && mkdir dualKS.buildbin-libdir && C:\Users\biocbuild\bbs-3.7-bioc\R\bin\R.exe CMD INSTALL --merge-multiarch --build --library=dualKS.buildbin-libdir dualKS_1.40.0.tar.gz ### ############################################################################## ############################################################################## install for i386 * installing *source* package 'dualKS' ... ** R ** data ** inst ** byte-compile and prepare package for lazy loading ** help *** installing help indices converting help for package 'dualKS' finding HTML links ... done KS html class.DKSClassifier html class.DKSGeneScores html class.DKSGeneSet html class.DKSPredicted html dks html dksClassify html dksCustomClass html dksPerm html dksSelectGenes html dksTrain html dksWeights html dualKS-package html ** building package indices ** installing vignettes ** testing if installed package can be loaded In R CMD INSTALL install for x64 * installing *source* package 'dualKS' ... ** testing if installed package can be loaded * MD5 sums packaged installation of 'dualKS' as dualKS_1.40.0.zip * DONE (dualKS) In R CMD INSTALL In R CMD INSTALL