| Back to Multiple platform build/check report for BioC 3.7 | 
 | 
This page was generated on 2018-10-17 08:49:57 -0400 (Wed, 17 Oct 2018).
| Package 394/1561 | Hostname | OS / Arch | INSTALL | BUILD | CHECK | BUILD BIN | ||||||
| dks 1.26.0 Jeffrey T. Leek 
 | malbec2 | Linux (Ubuntu 16.04.1 LTS) / x86_64 | OK | OK | OK |  | ||||||
| tokay2 | Windows Server 2012 R2 Standard / x64 | OK | OK | OK | OK |  | ||||||
| merida2 | OS X 10.11.6 El Capitan / x86_64 | OK | [ OK ] | OK | OK |  | 
| Package: dks | 
| Version: 1.26.0 | 
| Command: /Library/Frameworks/R.framework/Versions/Current/Resources/bin/R CMD build --keep-empty-dirs --no-resave-data dks | 
| StartedAt: 2018-10-16 16:53:55 -0400 (Tue, 16 Oct 2018) | 
| EndedAt: 2018-10-16 16:56:24 -0400 (Tue, 16 Oct 2018) | 
| EllapsedTime: 148.8 seconds | 
| RetCode: 0 | 
| Status: OK | 
| PackageFile: dks_1.26.0.tar.gz | 
| PackageFileSize: 464 KiB | 
############################################################################## ############################################################################## ### ### Running command: ### ### /Library/Frameworks/R.framework/Versions/Current/Resources/bin/R CMD build --keep-empty-dirs --no-resave-data dks ### ############################################################################## ############################################################################## * checking for file ‘dks/DESCRIPTION’ ... OK * preparing ‘dks’: * checking DESCRIPTION meta-information ... OK * installing the package to build vignettes * creating vignettes ... OK * checking for LF line-endings in source and make files and shell scripts * checking for empty or unneeded directories * looking to see if a ‘data/datalist’ file should be added * building ‘dks_1.26.0.tar.gz’