| Back to Multiple platform build/check report for BioC 3.7 |
|
This page was generated on 2018-10-17 08:30:28 -0400 (Wed, 17 Oct 2018).
| Package 389/1561 | Hostname | OS / Arch | INSTALL | BUILD | CHECK | BUILD BIN | ||||||
| diffuStats 0.104.0 Sergio Picart-Armada
| malbec2 | Linux (Ubuntu 16.04.1 LTS) / x86_64 | [ OK ] | OK | OK | |||||||
| tokay2 | Windows Server 2012 R2 Standard / x64 | OK | OK | OK | OK | |||||||
| merida2 | OS X 10.11.6 El Capitan / x86_64 | OK | OK | OK | OK |
| Package: diffuStats |
| Version: 0.104.0 |
| Command: /home/biocbuild/bbs-3.7-bioc/R/bin/R CMD INSTALL diffuStats |
| StartedAt: 2018-10-15 18:03:43 -0400 (Mon, 15 Oct 2018) |
| EndedAt: 2018-10-15 18:04:07 -0400 (Mon, 15 Oct 2018) |
| EllapsedTime: 23.7 seconds |
| RetCode: 0 |
| Status: OK |
##############################################################################
##############################################################################
###
### Running command:
###
### /home/biocbuild/bbs-3.7-bioc/R/bin/R CMD INSTALL diffuStats
###
##############################################################################
##############################################################################
* installing to library ‘/home/biocbuild/bbs-3.7-bioc/R/library’
* installing *source* package ‘diffuStats’ ...
** libs
g++ -std=gnu++11 -I"/home/biocbuild/bbs-3.7-bioc/R/include" -DNDEBUG -I"/home/biocbuild/bbs-3.7-bioc/R/library/Rcpp/include" -I"/home/biocbuild/bbs-3.7-bioc/R/library/RcppArmadillo/include" -I"/home/biocbuild/bbs-3.7-bioc/R/library/RcppParallel/include" -I/usr/local/include -fpic -g -O2 -c RcppExports.cpp -o RcppExports.o
g++ -std=gnu++11 -I"/home/biocbuild/bbs-3.7-bioc/R/include" -DNDEBUG -I"/home/biocbuild/bbs-3.7-bioc/R/library/Rcpp/include" -I"/home/biocbuild/bbs-3.7-bioc/R/library/RcppArmadillo/include" -I"/home/biocbuild/bbs-3.7-bioc/R/library/RcppParallel/include" -I/usr/local/include -fpic -g -O2 -c diffuse_parallel.cpp -o diffuse_parallel.o
diffuse_parallel.cpp: In function ‘arma::sp_mat convertSparse(Rcpp::S4)’:
diffuse_parallel.cpp:28:84: warning: ‘static eT* arma::memory::acquire_chunked(arma::uword) [with eT = double; arma::uword = unsigned int]’ is deprecated [-Wdeprecated-declarations]
arma::access::rw(res.values) = arma::memory::acquire_chunked<double>(x.size() + 1);
^
In file included from /home/biocbuild/bbs-3.7-bioc/R/library/RcppArmadillo/include/armadillo:351:0,
from /home/biocbuild/bbs-3.7-bioc/R/library/RcppArmadillo/include/RcppArmadilloForward.h:46,
from /home/biocbuild/bbs-3.7-bioc/R/library/RcppArmadillo/include/RcppArmadillo.h:31,
from diffuse_parallel.cpp:1:
/home/biocbuild/bbs-3.7-bioc/R/library/RcppArmadillo/include/armadillo_bits/memory.hpp:117:1: note: declared here
memory::acquire_chunked(const uword n_elem)
^
diffuse_parallel.cpp:32:94: warning: ‘static eT* arma::memory::acquire_chunked(arma::uword) [with eT = unsigned int; arma::uword = unsigned int]’ is deprecated [-Wdeprecated-declarations]
arma::access::rw(res.row_indices) = arma::memory::acquire_chunked<arma::uword>(i.size() + 1);
^
In file included from /home/biocbuild/bbs-3.7-bioc/R/library/RcppArmadillo/include/armadillo:351:0,
from /home/biocbuild/bbs-3.7-bioc/R/library/RcppArmadillo/include/RcppArmadilloForward.h:46,
from /home/biocbuild/bbs-3.7-bioc/R/library/RcppArmadillo/include/RcppArmadillo.h:31,
from diffuse_parallel.cpp:1:
/home/biocbuild/bbs-3.7-bioc/R/library/RcppArmadillo/include/armadillo_bits/memory.hpp:117:1: note: declared here
memory::acquire_chunked(const uword n_elem)
^
gcc -I"/home/biocbuild/bbs-3.7-bioc/R/include" -DNDEBUG -I"/home/biocbuild/bbs-3.7-bioc/R/library/Rcpp/include" -I"/home/biocbuild/bbs-3.7-bioc/R/library/RcppArmadillo/include" -I"/home/biocbuild/bbs-3.7-bioc/R/library/RcppParallel/include" -I/usr/local/include -fpic -g -O2 -Wall -c init.c -o init.o
g++ -std=gnu++11 -shared -L/home/biocbuild/bbs-3.7-bioc/R/lib -L/usr/local/lib -o diffuStats.so RcppExports.o diffuse_parallel.o init.o -L/home/biocbuild/bbs-3.7-bioc/R/lib -lR
installing to /home/biocbuild/bbs-3.7-bioc/R/library/diffuStats/libs
** R
** data
*** moving datasets to lazyload DB
** inst
** byte-compile and prepare package for lazy loading
** help
*** installing help indices
** building package indices
** installing vignettes
** testing if installed package can be loaded
* DONE (diffuStats)