| Back to Multiple platform build/check report for BioC 3.7 |
|
This page was generated on 2018-10-17 08:31:30 -0400 (Wed, 17 Oct 2018).
| Package 384/1561 | Hostname | OS / Arch | INSTALL | BUILD | CHECK | BUILD BIN | ||||||
| diffcyt 1.0.10 Lukas M. Weber
| malbec2 | Linux (Ubuntu 16.04.1 LTS) / x86_64 | OK | OK | [ OK ] | |||||||
| tokay2 | Windows Server 2012 R2 Standard / x64 | OK | OK | OK | OK | |||||||
| merida2 | OS X 10.11.6 El Capitan / x86_64 | OK | OK | OK | OK |
| Package: diffcyt |
| Version: 1.0.10 |
| Command: /home/biocbuild/bbs-3.7-bioc/R/bin/R CMD check --install=check:diffcyt.install-out.txt --library=/home/biocbuild/bbs-3.7-bioc/R/library --no-vignettes --timings diffcyt_1.0.10.tar.gz |
| StartedAt: 2018-10-15 23:52:46 -0400 (Mon, 15 Oct 2018) |
| EndedAt: 2018-10-15 23:55:41 -0400 (Mon, 15 Oct 2018) |
| EllapsedTime: 175.1 seconds |
| RetCode: 0 |
| Status: OK |
| CheckDir: diffcyt.Rcheck |
| Warnings: 0 |
##############################################################################
##############################################################################
###
### Running command:
###
### /home/biocbuild/bbs-3.7-bioc/R/bin/R CMD check --install=check:diffcyt.install-out.txt --library=/home/biocbuild/bbs-3.7-bioc/R/library --no-vignettes --timings diffcyt_1.0.10.tar.gz
###
##############################################################################
##############################################################################
* using log directory ‘/home/biocbuild/bbs-3.7-bioc/meat/diffcyt.Rcheck’
* using R version 3.5.1 Patched (2018-07-12 r74967)
* using platform: x86_64-pc-linux-gnu (64-bit)
* using session charset: UTF-8
* using option ‘--no-vignettes’
* checking for file ‘diffcyt/DESCRIPTION’ ... OK
* this is package ‘diffcyt’ version ‘1.0.10’
* checking package namespace information ... OK
* checking package dependencies ... OK
* checking if this is a source package ... OK
* checking if there is a namespace ... OK
* checking for hidden files and directories ... OK
* checking for portable file names ... OK
* checking for sufficient/correct file permissions ... OK
* checking whether package ‘diffcyt’ can be installed ... OK
* checking installed package size ... OK
* checking package directory ... OK
* checking ‘build’ directory ... OK
* checking DESCRIPTION meta-information ... OK
* checking top-level files ... OK
* checking for left-over files ... OK
* checking index information ... OK
* checking package subdirectories ... OK
* checking R files for non-ASCII characters ... OK
* checking R files for syntax errors ... OK
* checking whether the package can be loaded ... OK
* checking whether the package can be loaded with stated dependencies ... OK
* checking whether the package can be unloaded cleanly ... OK
* checking whether the namespace can be loaded with stated dependencies ... OK
* checking whether the namespace can be unloaded cleanly ... OK
* checking dependencies in R code ... OK
* checking S3 generic/method consistency ... OK
* checking replacement functions ... OK
* checking foreign function calls ... OK
* checking R code for possible problems ... NOTE
calcCounts: no visible binding for global variable ‘cluster_id’
calcCounts: no visible binding for global variable ‘sample_id’
calcMedians: no visible binding for global variable ‘cluster_id’
calcMedians: no visible binding for global variable ‘sample_id’
calcMedians: no visible binding for global variable ‘value’
calcMediansByClusterMarker: no visible binding for global variable
‘cluster_id’
calcMediansByClusterMarker: no visible binding for global variable
‘marker’
calcMediansByClusterMarker: no visible binding for global variable
‘value’
calcMediansBySampleMarker: no visible binding for global variable
‘sample_id’
calcMediansBySampleMarker: no visible binding for global variable
‘marker’
calcMediansBySampleMarker: no visible binding for global variable
‘value’
Undefined global functions or variables:
cluster_id marker sample_id value
* checking Rd files ... OK
* checking Rd metadata ... OK
* checking Rd cross-references ... OK
* checking for missing documentation entries ... OK
* checking for code/documentation mismatches ... OK
* checking Rd \usage sections ... OK
* checking Rd contents ... OK
* checking for unstated dependencies in examples ... OK
* checking files in ‘vignettes’ ... OK
* checking examples ... OK
Examples with CPU or elapsed time > 5s
user system elapsed
diffcyt 8.720 0.008 8.738
plotHeatmap 8.196 0.072 8.277
testDA_GLMM 8.260 0.008 8.296
* checking for unstated dependencies in vignettes ... OK
* checking package vignettes in ‘inst/doc’ ... OK
* checking running R code from vignettes ... SKIPPED
* checking re-building of vignette outputs ... SKIPPED
* checking PDF version of manual ... OK
* DONE
Status: 1 NOTE
See
‘/home/biocbuild/bbs-3.7-bioc/meat/diffcyt.Rcheck/00check.log’
for details.
diffcyt.Rcheck/00install.out
############################################################################## ############################################################################## ### ### Running command: ### ### /home/biocbuild/bbs-3.7-bioc/R/bin/R CMD INSTALL diffcyt ### ############################################################################## ############################################################################## * installing to library ‘/home/biocbuild/bbs-3.7-bioc/R/library’ * installing *source* package ‘diffcyt’ ... ** R ** inst ** byte-compile and prepare package for lazy loading ** help *** installing help indices ** building package indices ** installing vignettes ** testing if installed package can be loaded * DONE (diffcyt)
diffcyt.Rcheck/diffcyt-Ex.timings
| name | user | system | elapsed | |
| calcCounts | 1.156 | 0.028 | 1.182 | |
| calcMedians | 1.512 | 0.000 | 1.513 | |
| calcMediansByClusterMarker | 1.024 | 0.008 | 1.034 | |
| calcMediansBySampleMarker | 0.884 | 0.000 | 0.887 | |
| createContrast | 0.000 | 0.000 | 0.001 | |
| createDesignMatrix | 0.008 | 0.000 | 0.008 | |
| createFormula | 0.004 | 0.000 | 0.003 | |
| diffcyt | 8.720 | 0.008 | 8.738 | |
| generateClusters | 0.972 | 0.004 | 0.975 | |
| plotHeatmap | 8.196 | 0.072 | 8.277 | |
| prepareData | 0.036 | 0.000 | 0.033 | |
| testDA_GLMM | 8.260 | 0.008 | 8.296 | |
| testDA_edgeR | 1.248 | 0.000 | 1.248 | |
| testDA_voom | 1.28 | 0.00 | 1.28 | |
| testDS_LMM | 4.388 | 0.004 | 4.395 | |
| testDS_limma | 1.824 | 0.000 | 1.822 | |
| topClusters | 3.996 | 0.000 | 4.000 | |
| transformData | 0.040 | 0.000 | 0.039 | |