| Back to Multiple platform build/check report for BioC 3.7 |
|
This page was generated on 2018-10-17 08:39:22 -0400 (Wed, 17 Oct 2018).
| Package 371/1561 | Hostname | OS / Arch | INSTALL | BUILD | CHECK | BUILD BIN | ||||||
| derfinderHelper 1.14.0 Leonardo Collado-Torres
| malbec2 | Linux (Ubuntu 16.04.1 LTS) / x86_64 | OK | OK | OK | |||||||
| tokay2 | Windows Server 2012 R2 Standard / x64 | OK | OK | OK | [ OK ] | |||||||
| merida2 | OS X 10.11.6 El Capitan / x86_64 | OK | OK | OK | OK |
| Package: derfinderHelper |
| Version: 1.14.0 |
| Command: rm -rf derfinderHelper.buildbin-libdir && mkdir derfinderHelper.buildbin-libdir && C:\Users\biocbuild\bbs-3.7-bioc\R\bin\R.exe CMD INSTALL --merge-multiarch --build --library=derfinderHelper.buildbin-libdir derfinderHelper_1.14.0.tar.gz |
| StartedAt: 2018-10-17 06:14:45 -0400 (Wed, 17 Oct 2018) |
| EndedAt: 2018-10-17 06:15:02 -0400 (Wed, 17 Oct 2018) |
| EllapsedTime: 16.5 seconds |
| RetCode: 0 |
| Status: OK |
| PackageFile: derfinderHelper_1.14.0.zip |
| PackageFileSize: 315.2 KiB |
##############################################################################
##############################################################################
###
### Running command:
###
### rm -rf derfinderHelper.buildbin-libdir && mkdir derfinderHelper.buildbin-libdir && C:\Users\biocbuild\bbs-3.7-bioc\R\bin\R.exe CMD INSTALL --merge-multiarch --build --library=derfinderHelper.buildbin-libdir derfinderHelper_1.14.0.tar.gz
###
##############################################################################
##############################################################################
install for i386
* installing *source* package 'derfinderHelper' ...
** R
** inst
** byte-compile and prepare package for lazy loading
** help
*** installing help indices
converting help for package 'derfinderHelper'
finding HTML links ... done
derfinderHelper-package html
fstats.apply html
** building package indices
** installing vignettes
** testing if installed package can be loaded
In R CMD INSTALL
install for x64
* installing *source* package 'derfinderHelper' ...
** testing if installed package can be loaded
* MD5 sums
packaged installation of 'derfinderHelper' as derfinderHelper_1.14.0.zip
* DONE (derfinderHelper)
In R CMD INSTALL
In R CMD INSTALL