| Back to Multiple platform build/check report for BioC 3.7 |
|
This page was generated on 2018-10-17 08:28:42 -0400 (Wed, 17 Oct 2018).
| Package 353/1561 | Hostname | OS / Arch | INSTALL | BUILD | CHECK | BUILD BIN | ||||||
| debrowser 1.8.5 Alper Kucukural
| malbec2 | Linux (Ubuntu 16.04.1 LTS) / x86_64 | [ OK ] | OK | OK | |||||||
| tokay2 | Windows Server 2012 R2 Standard / x64 | OK | OK | OK | OK | |||||||
| merida2 | OS X 10.11.6 El Capitan / x86_64 | OK | OK | OK | OK |
| Package: debrowser |
| Version: 1.8.5 |
| Command: /home/biocbuild/bbs-3.7-bioc/R/bin/R CMD INSTALL debrowser |
| StartedAt: 2018-10-15 18:40:28 -0400 (Mon, 15 Oct 2018) |
| EndedAt: 2018-10-15 18:40:57 -0400 (Mon, 15 Oct 2018) |
| EllapsedTime: 29.5 seconds |
| RetCode: 0 |
| Status: OK |
##############################################################################
##############################################################################
###
### Running command:
###
### /home/biocbuild/bbs-3.7-bioc/R/bin/R CMD INSTALL debrowser
###
##############################################################################
##############################################################################
* installing to library ‘/home/biocbuild/bbs-3.7-bioc/R/library’
* installing *source* package ‘debrowser’ ...
** R
** inst
** byte-compile and prepare package for lazy loading
** help
*** installing help indices
** building package indices
** installing vignettes
** testing if installed package can be loaded
Warning in packageDescription("DEBrowser", fields = "Version") :
no package 'DEBrowser' was found
* DONE (debrowser)