| Back to Multiple platform build/check report for BioC 3.7 |
|
This page was generated on 2018-10-17 08:34:21 -0400 (Wed, 17 Oct 2018).
| Package 351/1561 | Hostname | OS / Arch | INSTALL | BUILD | CHECK | BUILD BIN | ||||||
| ddCt 1.36.0 Jitao David Zhang
| malbec2 | Linux (Ubuntu 16.04.1 LTS) / x86_64 | OK | OK | OK | |||||||
| tokay2 | Windows Server 2012 R2 Standard / x64 | OK | OK | OK | [ OK ] | |||||||
| merida2 | OS X 10.11.6 El Capitan / x86_64 | OK | OK | OK | OK |
| Package: ddCt |
| Version: 1.36.0 |
| Command: rm -rf ddCt.buildbin-libdir && mkdir ddCt.buildbin-libdir && C:\Users\biocbuild\bbs-3.7-bioc\R\bin\R.exe CMD INSTALL --merge-multiarch --build --library=ddCt.buildbin-libdir ddCt_1.36.0.tar.gz |
| StartedAt: 2018-10-17 06:13:55 -0400 (Wed, 17 Oct 2018) |
| EndedAt: 2018-10-17 06:14:07 -0400 (Wed, 17 Oct 2018) |
| EllapsedTime: 12.7 seconds |
| RetCode: 0 |
| Status: OK |
| PackageFile: ddCt_1.36.0.zip |
| PackageFileSize: 1.197 MiB |
##############################################################################
##############################################################################
###
### Running command:
###
### rm -rf ddCt.buildbin-libdir && mkdir ddCt.buildbin-libdir && C:\Users\biocbuild\bbs-3.7-bioc\R\bin\R.exe CMD INSTALL --merge-multiarch --build --library=ddCt.buildbin-libdir ddCt_1.36.0.tar.gz
###
##############################################################################
##############################################################################
install for i386
* installing *source* package 'ddCt' ...
** R
** inst
** byte-compile and prepare package for lazy loading
** help
*** installing help indices
converting help for package 'ddCt'
finding HTML links ... done
InputFrame html
InputReader-class html
QuantStudioFrame html
SDMFrame-class html
SDMFrame html
barploterrbar html
ddCtAbsolute html
finding level-2 HTML links ... done
ddCtExpression-class html
ddCtExpression-methods html
elistWrite-methods html
errBarchart-methods html
errBarchartParameter-class html
getDir html
removeNTC-methods html
replaceVectorByEquality html
write.htmltable html
writeSimpleTabCsv html
** building package indices
** installing vignettes
** testing if installed package can be loaded
In R CMD INSTALL
install for x64
* installing *source* package 'ddCt' ...
** testing if installed package can be loaded
* MD5 sums
packaged installation of 'ddCt' as ddCt_1.36.0.zip
* DONE (ddCt)
In R CMD INSTALL
In R CMD INSTALL