| Back to Multiple platform build/check report for BioC 3.7 |
|
This page was generated on 2018-10-17 08:26:32 -0400 (Wed, 17 Oct 2018).
| Package 294/1561 | Hostname | OS / Arch | INSTALL | BUILD | CHECK | BUILD BIN | ||||||
| compEpiTools 1.14.1 Kamal Kishore
| malbec2 | Linux (Ubuntu 16.04.1 LTS) / x86_64 | OK | OK | [ OK ] | |||||||
| tokay2 | Windows Server 2012 R2 Standard / x64 | OK | OK | OK | OK | |||||||
| merida2 | OS X 10.11.6 El Capitan / x86_64 | OK | OK | OK | OK |
| Package: compEpiTools |
| Version: 1.14.1 |
| Command: /home/biocbuild/bbs-3.7-bioc/R/bin/R CMD check --install=check:compEpiTools.install-out.txt --library=/home/biocbuild/bbs-3.7-bioc/R/library --no-vignettes --timings compEpiTools_1.14.1.tar.gz |
| StartedAt: 2018-10-15 23:26:51 -0400 (Mon, 15 Oct 2018) |
| EndedAt: 2018-10-15 23:32:04 -0400 (Mon, 15 Oct 2018) |
| EllapsedTime: 312.6 seconds |
| RetCode: 0 |
| Status: OK |
| CheckDir: compEpiTools.Rcheck |
| Warnings: 0 |
##############################################################################
##############################################################################
###
### Running command:
###
### /home/biocbuild/bbs-3.7-bioc/R/bin/R CMD check --install=check:compEpiTools.install-out.txt --library=/home/biocbuild/bbs-3.7-bioc/R/library --no-vignettes --timings compEpiTools_1.14.1.tar.gz
###
##############################################################################
##############################################################################
* using log directory ‘/home/biocbuild/bbs-3.7-bioc/meat/compEpiTools.Rcheck’
* using R version 3.5.1 Patched (2018-07-12 r74967)
* using platform: x86_64-pc-linux-gnu (64-bit)
* using session charset: UTF-8
* using option ‘--no-vignettes’
* checking for file ‘compEpiTools/DESCRIPTION’ ... OK
* checking extension type ... Package
* this is package ‘compEpiTools’ version ‘1.14.1’
* checking package namespace information ... OK
* checking package dependencies ... OK
* checking if this is a source package ... OK
* checking if there is a namespace ... OK
* checking for hidden files and directories ... OK
* checking for portable file names ... OK
* checking for sufficient/correct file permissions ... OK
* checking whether package ‘compEpiTools’ can be installed ... OK
* checking installed package size ... OK
* checking package directory ... OK
* checking ‘build’ directory ... OK
* checking DESCRIPTION meta-information ... OK
* checking top-level files ... OK
* checking for left-over files ... OK
* checking index information ... OK
* checking package subdirectories ... OK
* checking R files for non-ASCII characters ... OK
* checking R files for syntax errors ... OK
* checking whether the package can be loaded ... OK
* checking whether the package can be loaded with stated dependencies ... OK
* checking whether the package can be unloaded cleanly ... OK
* checking whether the namespace can be loaded with stated dependencies ... OK
* checking whether the namespace can be unloaded cleanly ... OK
* checking dependencies in R code ... OK
* checking S3 generic/method consistency ... OK
* checking replacement functions ... OK
* checking foreign function calls ... OK
* checking R code for possible problems ... NOTE
TSS: no visible global function definition for 'end<-'
TSS: no visible global function definition for 'start<-'
findLncRNA: no visible global function definition for 'start<-'
findLncRNA: no visible global function definition for 'end<-'
findLncRNA: no visible global function definition for 'IRanges'
findLncRNA: no visible binding for global variable 'quantile'
heatmapPlot: no visible global function definition for 'quantile'
heatmapPlot: no visible global function definition for 'hclust'
heatmapPlot: no visible global function definition for 'dist'
heatmapPlot: no visible global function definition for 'as.dendrogram'
plotStallingIndex: no visible global function definition for 'rainbow'
plotStallingIndex: no visible global function definition for 'layout'
plotStallingIndex: no visible global function definition for 'par'
plotStallingIndex: no visible global function definition for 'plot'
plotStallingIndex: no visible global function definition for 'points'
plotStallingIndex: no visible global function definition for 'legend'
stallingIndex : getBound: no visible global function definition for
'start<-'
stallingIndex : getBound: no visible global function definition for
'end<-'
stallingIndex: no visible global function definition for 'IRanges'
topGOres : <anonymous>: no visible global function definition for
'ggplot'
topGOres : <anonymous>: no visible global function definition for 'aes'
topGOres : <anonymous>: no visible binding for global variable
'Significant'
topGOres : <anonymous>: no visible binding for global variable 'P_val'
topGOres : <anonymous>: no visible global function definition for
'geom_bar'
topGOres : <anonymous>: no visible global function definition for
'coord_flip'
topGOres : <anonymous>: no visible global function definition for
'ylab'
ucsc2GRanges: no visible global function definition for 'IRanges'
GR2fasta,GRanges: no visible global function definition for
'seqlengths'
GR2fasta,GRanges: no visible global function definition for
'seqlengths<-'
GR2fasta,GRanges: no visible global function definition for 'trim'
GRangesInPromoters,GRanges: no visible global function definition for
'start<-'
GRannotate,GRanges: no visible global function definition for 'start<-'
GRannotate,GRanges: no visible global function definition for 'end<-'
GRannotateSimple,GRanges: no visible global function definition for
'pie'
GRcoverageSummit,GRanges: no visible global function definition for
'start<-'
GRcoverageSummit,GRanges: no visible global function definition for
'end<-'
GRmidpoint,GRanges: no visible global function definition for 'start<-'
GRmidpoint,GRanges: no visible global function definition for 'end<-'
GRsetwidth,GRanges: no visible global function definition for 'start<-'
GRsetwidth,GRanges: no visible global function definition for 'end<-'
countOverlapsInBins,GRanges: no visible global function definition for
'IRanges'
featuresLength,TxDb: no visible global function definition for 'reduce'
getPromoterClass,TxDb: no visible binding for global variable 'txdb'
getPromoterClass,TxDb: no visible global function definition for
'start<-'
getPromoterClass,TxDb: no visible global function definition for
'stopCluster'
makeGtfFromDb,TxDb: no visible global function definition for 'reduce'
makeGtfFromDb,TxDb: no visible global function definition for
'write.table'
matchEnhancers,GRanges: no visible global function definition for
'distanceToNearest'
matchEnhancers,GRanges: no visible global function definition for
'IRanges'
Undefined global functions or variables:
IRanges P_val Significant aes as.dendrogram coord_flip dist
distanceToNearest end<- geom_bar ggplot hclust layout legend par pie
plot points quantile rainbow reduce seqlengths seqlengths<- start<-
stopCluster trim txdb write.table ylab
Consider adding
importFrom("grDevices", "rainbow")
importFrom("graphics", "layout", "legend", "par", "pie", "plot",
"points")
importFrom("stats", "as.dendrogram", "dist", "hclust", "quantile")
importFrom("utils", "write.table")
to your NAMESPACE file.
* checking Rd files ... OK
* checking Rd metadata ... OK
* checking Rd cross-references ... OK
* checking for missing documentation entries ... OK
* checking for code/documentation mismatches ... OK
* checking Rd \usage sections ... OK
* checking Rd contents ... OK
* checking for unstated dependencies in examples ... OK
* checking files in ‘vignettes’ ... OK
* checking examples ... OK
Examples with CPU or elapsed time > 5s
user system elapsed
topGOres 28.280 0.176 28.470
getPromoterClass-methods 1.452 0.048 14.157
* checking for unstated dependencies in vignettes ... OK
* checking package vignettes in ‘inst/doc’ ... OK
* checking running R code from vignettes ... SKIPPED
* checking re-building of vignette outputs ... SKIPPED
* checking PDF version of manual ... OK
* DONE
Status: 1 NOTE
See
‘/home/biocbuild/bbs-3.7-bioc/meat/compEpiTools.Rcheck/00check.log’
for details.
compEpiTools.Rcheck/00install.out
############################################################################## ############################################################################## ### ### Running command: ### ### /home/biocbuild/bbs-3.7-bioc/R/bin/R CMD INSTALL compEpiTools ### ############################################################################## ############################################################################## * installing to library ‘/home/biocbuild/bbs-3.7-bioc/R/library’ * installing *source* package ‘compEpiTools’ ... ** R ** inst ** byte-compile and prepare package for lazy loading groupGOTerms: GOBPTerm, GOMFTerm, GOCCTerm environments built. ** help *** installing help indices ** building package indices ** installing vignettes ** testing if installed package can be loaded groupGOTerms: GOBPTerm, GOMFTerm, GOCCTerm environments built. * DONE (compEpiTools)
compEpiTools.Rcheck/compEpiTools-Ex.timings
| name | user | system | elapsed | |
| GR2fasta-methods | 0.440 | 0.000 | 0.465 | |
| GRanges2ucsc-methods | 0.004 | 0.000 | 0.007 | |
| GRangesInPromoters-methods | 3.360 | 0.028 | 3.393 | |
| GRannotate-methods | 4.448 | 0.024 | 4.477 | |
| GRannotateSimple | 0.496 | 0.004 | 0.499 | |
| GRbaseCoverage-methods | 0.084 | 0.000 | 0.083 | |
| GRcoverage-methods | 0.100 | 0.000 | 0.099 | |
| GRcoverageSummit-methods | 0.044 | 0.000 | 0.041 | |
| GRenrichment-methods | 0.060 | 0.000 | 0.061 | |
| GRmidpoint-methods | 0.016 | 0.000 | 0.014 | |
| GRsetwidth | 0.020 | 0.000 | 0.018 | |
| TSS | 1.236 | 0.008 | 1.247 | |
| countOverlapsInBins-methods | 0.092 | 0.000 | 0.092 | |
| distanceFromTSS-methods | 2.492 | 0.012 | 2.509 | |
| enhancers | 0.312 | 0.004 | 0.329 | |
| findLncRNA | 0.656 | 0.028 | 0.712 | |
| getPromoterClass-methods | 1.452 | 0.048 | 14.157 | |
| heatmapData | 1.028 | 0.040 | 1.070 | |
| heatmapPlot | 2.280 | 0.088 | 2.370 | |
| makeGtfFromDb | 3.492 | 0.048 | 3.543 | |
| matchEnhancers | 1.600 | 0.008 | 1.611 | |
| overlapOfGRanges-methods | 0.04 | 0.00 | 0.04 | |
| palette2d | 0.060 | 0.000 | 0.061 | |
| plotStallingIndex | 3.456 | 0.004 | 3.469 | |
| simplifyGOterms | 0.728 | 0.032 | 2.193 | |
| stallingIndex | 3.524 | 0.008 | 3.534 | |
| topGOres | 28.280 | 0.176 | 28.470 | |
| ucsc2GRanges | 0.008 | 0.000 | 0.009 | |
| unionMaxScore-methods | 0.096 | 0.000 | 0.097 | |