| Back to Multiple platform build/check report for BioC 3.7 |
|
This page was generated on 2018-10-17 08:41:42 -0400 (Wed, 17 Oct 2018).
| Package 260/1561 | Hostname | OS / Arch | INSTALL | BUILD | CHECK | BUILD BIN | ||||||
| clustComp 1.8.0 Aurora Torrente
| malbec2 | Linux (Ubuntu 16.04.1 LTS) / x86_64 | OK | OK | OK | |||||||
| tokay2 | Windows Server 2012 R2 Standard / x64 | OK | OK | OK | [ OK ] | |||||||
| merida2 | OS X 10.11.6 El Capitan / x86_64 | OK | OK | OK | OK |
| Package: clustComp |
| Version: 1.8.0 |
| Command: rm -rf clustComp.buildbin-libdir && mkdir clustComp.buildbin-libdir && C:\Users\biocbuild\bbs-3.7-bioc\R\bin\R.exe CMD INSTALL --merge-multiarch --build --library=clustComp.buildbin-libdir clustComp_1.8.0.tar.gz |
| StartedAt: 2018-10-17 06:10:28 -0400 (Wed, 17 Oct 2018) |
| EndedAt: 2018-10-17 06:10:44 -0400 (Wed, 17 Oct 2018) |
| EllapsedTime: 16.3 seconds |
| RetCode: 0 |
| Status: OK |
| PackageFile: clustComp_1.8.0.zip |
| PackageFileSize: 938.9 KiB |
##############################################################################
##############################################################################
###
### Running command:
###
### rm -rf clustComp.buildbin-libdir && mkdir clustComp.buildbin-libdir && C:\Users\biocbuild\bbs-3.7-bioc\R\bin\R.exe CMD INSTALL --merge-multiarch --build --library=clustComp.buildbin-libdir clustComp_1.8.0.tar.gz
###
##############################################################################
##############################################################################
install for i386
* installing *source* package 'clustComp' ...
** R
** inst
** byte-compile and prepare package for lazy loading
** help
*** installing help indices
converting help for package 'clustComp'
finding HTML links ... done
SCmapping html
barycentre html
drawTreeGraph html
dyn.cross html
flatVSflat html
flatVShier html
insert html
score.crossing html
score.it html
** building package indices
** installing vignettes
** testing if installed package can be loaded
In R CMD INSTALL
install for x64
* installing *source* package 'clustComp' ...
** testing if installed package can be loaded
* MD5 sums
packaged installation of 'clustComp' as clustComp_1.8.0.zip
* DONE (clustComp)
In R CMD INSTALL
In R CMD INSTALL