| Back to Multiple platform build/check report for BioC 3.7 |
|
This page was generated on 2018-10-17 08:51:38 -0400 (Wed, 17 Oct 2018).
| Package 252/1561 | Hostname | OS / Arch | INSTALL | BUILD | CHECK | BUILD BIN | ||||||
| cleaver 1.18.0 Sebastian Gibb
| malbec2 | Linux (Ubuntu 16.04.1 LTS) / x86_64 | OK | OK | OK | |||||||
| tokay2 | Windows Server 2012 R2 Standard / x64 | OK | OK | WARNINGS | OK | |||||||
| merida2 | OS X 10.11.6 El Capitan / x86_64 | OK | OK | OK | [ OK ] |
| Package: cleaver |
| Version: 1.18.0 |
| Command: rm -rf cleaver.buildbin-libdir && mkdir cleaver.buildbin-libdir && /Users/biocbuild/BBS/utils/build-universal.sh cleaver_1.18.0.tar.gz /Library/Frameworks/R.framework/Versions/Current/Resources/bin/R cleaver.buildbin-libdir |
| StartedAt: 2018-10-17 01:06:11 -0400 (Wed, 17 Oct 2018) |
| EndedAt: 2018-10-17 01:07:03 -0400 (Wed, 17 Oct 2018) |
| EllapsedTime: 51.8 seconds |
| RetCode: 0 |
| Status: OK |
| PackageFile: cleaver_1.18.0.tgz |
| PackageFileSize: 230.6 KiB |
############################################################################## ############################################################################## ### ### Running command: ### ### rm -rf cleaver.buildbin-libdir && mkdir cleaver.buildbin-libdir && /Users/biocbuild/BBS/utils/build-universal.sh cleaver_1.18.0.tar.gz /Library/Frameworks/R.framework/Versions/Current/Resources/bin/R cleaver.buildbin-libdir ### ############################################################################## ############################################################################## >>>>>>> >>>>>>> INSTALLATION WITH 'R CMD INSTALL --preclean --no-multiarch --library=cleaver.buildbin-libdir cleaver_1.18.0.tar.gz' >>>>>>> * installing *source* package ‘cleaver’ ... ** R ** inst ** byte-compile and prepare package for lazy loading ** help *** installing help indices ** building package indices ** installing vignettes ** testing if installed package can be loaded * DONE (cleaver)