| Back to Multiple platform build/check report for BioC 3.7 |
|
This page was generated on 2018-10-17 08:37:25 -0400 (Wed, 17 Oct 2018).
| Package 251/1561 | Hostname | OS / Arch | INSTALL | BUILD | CHECK | BUILD BIN | ||||||
| cleanUpdTSeq 1.18.0 Sarah Sheppard
| malbec2 | Linux (Ubuntu 16.04.1 LTS) / x86_64 | OK | OK | OK | |||||||
| tokay2 | Windows Server 2012 R2 Standard / x64 | OK | OK | OK | [ OK ] | |||||||
| merida2 | OS X 10.11.6 El Capitan / x86_64 | OK | OK | OK | OK |
| Package: cleanUpdTSeq |
| Version: 1.18.0 |
| Command: rm -rf cleanUpdTSeq.buildbin-libdir && mkdir cleanUpdTSeq.buildbin-libdir && C:\Users\biocbuild\bbs-3.7-bioc\R\bin\R.exe CMD INSTALL --merge-multiarch --build --library=cleanUpdTSeq.buildbin-libdir cleanUpdTSeq_1.18.0.tar.gz |
| StartedAt: 2018-10-17 06:10:04 -0400 (Wed, 17 Oct 2018) |
| EndedAt: 2018-10-17 06:10:34 -0400 (Wed, 17 Oct 2018) |
| EllapsedTime: 30.1 seconds |
| RetCode: 0 |
| Status: OK |
| PackageFile: cleanUpdTSeq_1.18.0.zip |
| PackageFileSize: 4.177 MiB |
##############################################################################
##############################################################################
###
### Running command:
###
### rm -rf cleanUpdTSeq.buildbin-libdir && mkdir cleanUpdTSeq.buildbin-libdir && C:\Users\biocbuild\bbs-3.7-bioc\R\bin\R.exe CMD INSTALL --merge-multiarch --build --library=cleanUpdTSeq.buildbin-libdir cleanUpdTSeq_1.18.0.tar.gz
###
##############################################################################
##############################################################################
install for i386
* installing *source* package 'cleanUpdTSeq' ...
** R
** data
** inst
** byte-compile and prepare package for lazy loading
** help
*** installing help indices
converting help for package 'cleanUpdTSeq'
finding HTML links ... done
BED2GRangesSeq html
PASclassifier-class html
buildClassifier html
buildFeatureVector html
classifier html
cleanUpdTSeq-package html
data.NaiveBayes html
featureVector-class html
getDownstreamSequence html
getUpstreamSequence html
modelInfo-class html
naiveBayes html
predictTestSet html
** building package indices
** installing vignettes
** testing if installed package can be loaded
In R CMD INSTALL
install for x64
* installing *source* package 'cleanUpdTSeq' ...
** testing if installed package can be loaded
* MD5 sums
packaged installation of 'cleanUpdTSeq' as cleanUpdTSeq_1.18.0.zip
* DONE (cleanUpdTSeq)
In R CMD INSTALL
In R CMD INSTALL