| Back to Multiple platform build/check report for BioC 3.7 |
|
This page was generated on 2018-10-17 08:36:57 -0400 (Wed, 17 Oct 2018).
| Package 249/1561 | Hostname | OS / Arch | INSTALL | BUILD | CHECK | BUILD BIN | ||||||
| cisPath 1.20.0 Likun Wang
| malbec2 | Linux (Ubuntu 16.04.1 LTS) / x86_64 | OK | OK | OK | |||||||
| tokay2 | Windows Server 2012 R2 Standard / x64 | [ OK ] | OK | OK | OK | |||||||
| merida2 | OS X 10.11.6 El Capitan / x86_64 | OK | OK | OK | OK |
| Package: cisPath |
| Version: 1.20.0 |
| Command: C:\cygwin\bin\curl.exe -O https://malbec2.bioconductor.org/BBS/3.7/bioc/src/contrib/cisPath_1.20.0.tar.gz && rm -rf cisPath.buildbin-libdir && mkdir cisPath.buildbin-libdir && C:\Users\biocbuild\bbs-3.7-bioc\R\bin\R.exe CMD INSTALL --merge-multiarch --build --library=cisPath.buildbin-libdir cisPath_1.20.0.tar.gz && C:\Users\biocbuild\bbs-3.7-bioc\R\bin\R.exe CMD INSTALL cisPath_1.20.0.zip && rm cisPath_1.20.0.tar.gz cisPath_1.20.0.zip |
| StartedAt: 2018-10-16 18:36:57 -0400 (Tue, 16 Oct 2018) |
| EndedAt: 2018-10-16 18:37:58 -0400 (Tue, 16 Oct 2018) |
| EllapsedTime: 60.4 seconds |
| RetCode: 0 |
| Status: OK |
##############################################################################
##############################################################################
###
### Running command:
###
### C:\cygwin\bin\curl.exe -O https://malbec2.bioconductor.org/BBS/3.7/bioc/src/contrib/cisPath_1.20.0.tar.gz && rm -rf cisPath.buildbin-libdir && mkdir cisPath.buildbin-libdir && C:\Users\biocbuild\bbs-3.7-bioc\R\bin\R.exe CMD INSTALL --merge-multiarch --build --library=cisPath.buildbin-libdir cisPath_1.20.0.tar.gz && C:\Users\biocbuild\bbs-3.7-bioc\R\bin\R.exe CMD INSTALL cisPath_1.20.0.zip && rm cisPath_1.20.0.tar.gz cisPath_1.20.0.zip
###
##############################################################################
##############################################################################
% Total % Received % Xferd Average Speed Time Time Time Current
Dload Upload Total Spent Left Speed
0 0 0 0 0 0 0 0 --:--:-- --:--:-- --:--:-- 0
100 713k 100 713k 0 0 12.1M 0 --:--:-- --:--:-- --:--:-- 13.3M
install for i386
* installing *source* package 'cisPath' ...
** libs
C:/Rtools/mingw_32/bin/g++ -I"C:/Users/BIOCBU˜1/BBS-3˜1.7-B/R/include" -DNDEBUG -I"C:/extsoft/include" -O2 -Wall -mtune=generic -c cisPath.cpp -o cisPath.o
C:/Rtools/mingw_32/bin/g++ -shared -s -static-libgcc -o cisPath.dll tmp.def cisPath.o -LC:/extsoft/lib/i386 -LC:/extsoft/lib -LC:/Users/BIOCBU˜1/BBS-3˜1.7-B/R/bin/i386 -lR
installing to C:/Users/biocbuild/bbs-3.7-bioc/meat/cisPath.buildbin-libdir/cisPath/libs/i386
** R
** inst
** byte-compile and prepare package for lazy loading
** help
*** installing help indices
converting help for package 'cisPath'
finding HTML links ... done
cisPath html
combinePPI html
easyEditor html
formatPINAPPI html
formatSIFfile html
formatSTRINGPPI html
formatiRefIndex html
getMappingFile html
networkView html
** building package indices
** installing vignettes
** testing if installed package can be loaded
In R CMD INSTALL
install for x64
* installing *source* package 'cisPath' ...
** libs
C:/Rtools/mingw_64/bin/g++ -I"C:/Users/BIOCBU˜1/BBS-3˜1.7-B/R/include" -DNDEBUG -I"C:/extsoft/include" -O2 -Wall -mtune=generic -c cisPath.cpp -o cisPath.o
C:/Rtools/mingw_64/bin/g++ -shared -s -static-libgcc -o cisPath.dll tmp.def cisPath.o -LC:/extsoft/lib/x64 -LC:/extsoft/lib -LC:/Users/BIOCBU˜1/BBS-3˜1.7-B/R/bin/x64 -lR
installing to C:/Users/biocbuild/bbs-3.7-bioc/meat/cisPath.buildbin-libdir/cisPath/libs/x64
** testing if installed package can be loaded
* MD5 sums
packaged installation of 'cisPath' as cisPath_1.20.0.zip
* DONE (cisPath)
In R CMD INSTALL
In R CMD INSTALL
* installing to library 'C:/Users/biocbuild/bbs-3.7-bioc/R/library'
package 'cisPath' successfully unpacked and MD5 sums checked
In R CMD INSTALL