| Back to Multiple platform build/check report for BioC 3.7 |
|
This page was generated on 2018-10-17 08:34:37 -0400 (Wed, 17 Oct 2018).
| Package 220/1561 | Hostname | OS / Arch | INSTALL | BUILD | CHECK | BUILD BIN | ||||||
| charm 2.26.0 Peter Murakami
| malbec2 | Linux (Ubuntu 16.04.1 LTS) / x86_64 | OK | OK | WARNINGS | |||||||
| tokay2 | Windows Server 2012 R2 Standard / x64 | OK | OK | WARNINGS | [ OK ] | |||||||
| merida2 | OS X 10.11.6 El Capitan / x86_64 | OK | OK | WARNINGS | OK |
| Package: charm |
| Version: 2.26.0 |
| Command: rm -rf charm.buildbin-libdir && mkdir charm.buildbin-libdir && C:\Users\biocbuild\bbs-3.7-bioc\R\bin\R.exe CMD INSTALL --merge-multiarch --build --library=charm.buildbin-libdir charm_2.26.0.tar.gz |
| StartedAt: 2018-10-17 06:08:33 -0400 (Wed, 17 Oct 2018) |
| EndedAt: 2018-10-17 06:09:14 -0400 (Wed, 17 Oct 2018) |
| EllapsedTime: 41.5 seconds |
| RetCode: 0 |
| Status: OK |
| PackageFile: charm_2.26.0.zip |
| PackageFileSize: 814.4 KiB |
##############################################################################
##############################################################################
###
### Running command:
###
### rm -rf charm.buildbin-libdir && mkdir charm.buildbin-libdir && C:\Users\biocbuild\bbs-3.7-bioc\R\bin\R.exe CMD INSTALL --merge-multiarch --build --library=charm.buildbin-libdir charm_2.26.0.tar.gz
###
##############################################################################
##############################################################################
install for i386
* installing *source* package 'charm' ...
** R
** inst
** byte-compile and prepare package for lazy loading
** help
*** installing help indices
converting help for package 'charm'
finding HTML links ... done
bgAdjust html
clusterMaker html
cmdsplot html
controlQC html
countGC html
cpgdensity html
dmrFdr html
dmrFind html
dmrFinder html
dmrPlot html
getControlIndex html
maxDensity html
methPercent html
methp html
normalizeBetweenSamples html
normalizeWithinSamples html
plotDMRs html
plotDensity html
plotRegions html
pmQuality html
qcReport html
qval html
readCharm html
regionMatch html
regionPlot html
spatialAdjust html
validatePd html
** building package indices
** installing vignettes
** testing if installed package can be loaded
In R CMD INSTALL
install for x64
* installing *source* package 'charm' ...
** testing if installed package can be loaded
* MD5 sums
packaged installation of 'charm' as charm_2.26.0.zip
* DONE (charm)
In R CMD INSTALL
In R CMD INSTALL