| Back to Multiple platform build/check report for BioC 3.7 | 
 | 
This page was generated on 2018-10-17 08:33:29 -0400 (Wed, 17 Oct 2018).
| Package 202/1561 | Hostname | OS / Arch | INSTALL | BUILD | CHECK | BUILD BIN | ||||||
| cellHTS2 2.44.0 Joseph Barry 
 | malbec2 | Linux (Ubuntu 16.04.1 LTS) / x86_64 | OK | OK | WARNINGS |  | ||||||
| tokay2 | Windows Server 2012 R2 Standard / x64 | OK | OK | WARNINGS | [ OK ] |  | ||||||
| merida2 | OS X 10.11.6 El Capitan / x86_64 | OK | OK | WARNINGS | OK |  | 
| Package: cellHTS2 | 
| Version: 2.44.0 | 
| Command: rm -rf cellHTS2.buildbin-libdir && mkdir cellHTS2.buildbin-libdir && C:\Users\biocbuild\bbs-3.7-bioc\R\bin\R.exe CMD INSTALL --merge-multiarch --build --library=cellHTS2.buildbin-libdir cellHTS2_2.44.0.tar.gz | 
| StartedAt: 2018-10-17 06:07:52 -0400 (Wed, 17 Oct 2018) | 
| EndedAt: 2018-10-17 06:08:39 -0400 (Wed, 17 Oct 2018) | 
| EllapsedTime: 47.0 seconds | 
| RetCode: 0 | 
| Status: OK | 
| PackageFile: cellHTS2_2.44.0.zip | 
| PackageFileSize: 3.944 MiB | 
##############################################################################
##############################################################################
###
### Running command:
###
###   rm -rf cellHTS2.buildbin-libdir && mkdir cellHTS2.buildbin-libdir && C:\Users\biocbuild\bbs-3.7-bioc\R\bin\R.exe CMD INSTALL --merge-multiarch --build --library=cellHTS2.buildbin-libdir cellHTS2_2.44.0.tar.gz
###
##############################################################################
##############################################################################
install for i386
* installing *source* package 'cellHTS2' ...
** R
** data
** inst
** byte-compile and prepare package for lazy loading
** help
*** installing help indices
  converting help for package 'cellHTS2'
    finding HTML links ... done
    Bscore                                  html  
    Data                                    html  
    ROC-class                               html  
    ROC                                     html  
    annotate                                html  
    batch                                   html  
    bdgpbiomart                             html  
    buildCellHTS2                           html  
    cellHTS-class                           html  
    cellHTS2                                html  
    configurationAsScreenPlot               html  
    configure                               html  
    convertOldCellHTS                       html  
    convertWellCoordinates                  html  
    data-KcViab                             html  
    data-KcViabSmall                        html  
    data-dualCh                             html  
    data-oldKcViabSmall                     html  
    getDynamicRange                         html  
    getEnVisionRawData                      html  
    getMeasureRepAgreement                  html  
    getTopTable                             html  
    getZfactor                              html  
    gseaModule                              html  
    imageScreen                             html  
    intensityFiles                          html  
    normalizePlates                         html  
    oneRowPerId                             html  
    plate                                   html  
    plateEffects                            html  
    plotSpatialEffects                      html  
    readHTAnalystData                       html  
    readPlateList                           html  
    rsa                                     html  
    scoreReplicates                         html  
    scores2calls                            html  
    setSettings                             html  
    spatialNormalization                    html  
    state                                   html  
    summarizeChannels                       html  
    summarizeReplicates                     html  
    templateDescriptionFile                 html  
    updateCellHTS                           html  
    wellAnno                                html  
    write.tabdel                            html  
    writeReport                             html  
    writeTab                                html  
** building package indices
** installing vignettes
** testing if installed package can be loaded
In R CMD INSTALL
install for x64
* installing *source* package 'cellHTS2' ...
** testing if installed package can be loaded
* MD5 sums
packaged installation of 'cellHTS2' as cellHTS2_2.44.0.zip
* DONE (cellHTS2)
In R CMD INSTALL
In R CMD INSTALL