| Back to Multiple platform build/check report for BioC 3.7 |
|
This page was generated on 2018-10-17 08:56:45 -0400 (Wed, 17 Oct 2018).
| Package 197/1561 | Hostname | OS / Arch | INSTALL | BUILD | CHECK | BUILD BIN | ||||||
| ccmap 1.6.0 Alex Pickering
| malbec2 | Linux (Ubuntu 16.04.1 LTS) / x86_64 | OK | OK | OK | |||||||
| tokay2 | Windows Server 2012 R2 Standard / x64 | OK | OK | OK | OK | |||||||
| merida2 | OS X 10.11.6 El Capitan / x86_64 | OK | OK | OK | [ OK ] |
| Package: ccmap |
| Version: 1.6.0 |
| Command: rm -rf ccmap.buildbin-libdir && mkdir ccmap.buildbin-libdir && /Users/biocbuild/BBS/utils/build-universal.sh ccmap_1.6.0.tar.gz /Library/Frameworks/R.framework/Versions/Current/Resources/bin/R ccmap.buildbin-libdir |
| StartedAt: 2018-10-17 01:02:32 -0400 (Wed, 17 Oct 2018) |
| EndedAt: 2018-10-17 01:03:24 -0400 (Wed, 17 Oct 2018) |
| EllapsedTime: 52.5 seconds |
| RetCode: 0 |
| Status: OK |
| PackageFile: ccmap_1.6.0.tgz |
| PackageFileSize: 417.2 KiB |
############################################################################## ############################################################################## ### ### Running command: ### ### rm -rf ccmap.buildbin-libdir && mkdir ccmap.buildbin-libdir && /Users/biocbuild/BBS/utils/build-universal.sh ccmap_1.6.0.tar.gz /Library/Frameworks/R.framework/Versions/Current/Resources/bin/R ccmap.buildbin-libdir ### ############################################################################## ############################################################################## >>>>>>> >>>>>>> INSTALLATION WITH 'R CMD INSTALL --preclean --no-multiarch --library=ccmap.buildbin-libdir ccmap_1.6.0.tar.gz' >>>>>>> * installing *source* package ‘ccmap’ ... ** R ** inst ** byte-compile and prepare package for lazy loading ** help *** installing help indices ** building package indices ** installing vignettes ** testing if installed package can be loaded * DONE (ccmap)