| Back to Multiple platform build/check report for BioC 3.7 |
|
This page was generated on 2018-10-17 08:46:30 -0400 (Wed, 17 Oct 2018).
| Package 140/1561 | Hostname | OS / Arch | INSTALL | BUILD | CHECK | BUILD BIN | ||||||
| biomaRt 2.36.1 Mike Smith
| malbec2 | Linux (Ubuntu 16.04.1 LTS) / x86_64 | OK | OK | ERROR | |||||||
| tokay2 | Windows Server 2012 R2 Standard / x64 | OK | OK | ERROR | OK | |||||||
| merida2 | OS X 10.11.6 El Capitan / x86_64 | OK | [ OK ] | ERROR | OK |
| Package: biomaRt |
| Version: 2.36.1 |
| Command: /Library/Frameworks/R.framework/Versions/Current/Resources/bin/R CMD build --keep-empty-dirs --no-resave-data biomaRt |
| StartedAt: 2018-10-16 16:18:03 -0400 (Tue, 16 Oct 2018) |
| EndedAt: 2018-10-16 16:23:44 -0400 (Tue, 16 Oct 2018) |
| EllapsedTime: 340.7 seconds |
| RetCode: 0 |
| Status: OK |
| PackageFile: biomaRt_2.36.1.tar.gz |
| PackageFileSize: 280.5 KiB |
############################################################################## ############################################################################## ### ### Running command: ### ### /Library/Frameworks/R.framework/Versions/Current/Resources/bin/R CMD build --keep-empty-dirs --no-resave-data biomaRt ### ############################################################################## ############################################################################## * checking for file ‘biomaRt/DESCRIPTION’ ... OK * preparing ‘biomaRt’: * checking DESCRIPTION meta-information ... OK * installing the package to build vignettes * creating vignettes ... OK * checking for LF line-endings in source and make files and shell scripts * checking for empty or unneeded directories * building ‘biomaRt_2.36.1.tar.gz’