| Back to Multiple platform build/check report for BioC 3.7 |
|
This page was generated on 2018-10-17 08:32:58 -0400 (Wed, 17 Oct 2018).
| Package 106/1561 | Hostname | OS / Arch | INSTALL | BUILD | CHECK | BUILD BIN | ||||||
| beadarraySNP 1.46.0 Jan Oosting
| malbec2 | Linux (Ubuntu 16.04.1 LTS) / x86_64 | OK | OK | OK | |||||||
| tokay2 | Windows Server 2012 R2 Standard / x64 | OK | OK | OK | [ OK ] | |||||||
| merida2 | OS X 10.11.6 El Capitan / x86_64 | OK | OK | OK | OK |
| Package: beadarraySNP |
| Version: 1.46.0 |
| Command: rm -rf beadarraySNP.buildbin-libdir && mkdir beadarraySNP.buildbin-libdir && C:\Users\biocbuild\bbs-3.7-bioc\R\bin\R.exe CMD INSTALL --merge-multiarch --build --library=beadarraySNP.buildbin-libdir beadarraySNP_1.46.0.tar.gz |
| StartedAt: 2018-10-17 06:04:10 -0400 (Wed, 17 Oct 2018) |
| EndedAt: 2018-10-17 06:04:29 -0400 (Wed, 17 Oct 2018) |
| EllapsedTime: 18.5 seconds |
| RetCode: 0 |
| Status: OK |
| PackageFile: beadarraySNP_1.46.0.zip |
| PackageFileSize: 1.013 MiB |
##############################################################################
##############################################################################
###
### Running command:
###
### rm -rf beadarraySNP.buildbin-libdir && mkdir beadarraySNP.buildbin-libdir && C:\Users\biocbuild\bbs-3.7-bioc\R\bin\R.exe CMD INSTALL --merge-multiarch --build --library=beadarraySNP.buildbin-libdir beadarraySNP_1.46.0.tar.gz
###
##############################################################################
##############################################################################
install for i386
* installing *source* package 'beadarraySNP' ...
** R
** data
** inst
** byte-compile and prepare package for lazy loading
** help
*** installing help indices
converting help for package 'beadarraySNP'
finding HTML links ... done
BeadstudioQC html
CopynumberConversion html
Datasets html
GenomicReports html
GetBeadStudioSampleNames html
PolarTransforms html
QCIllumina-class html
Sample_Map2Samplesheet html
SnpSetSegments-class html
finding level-2 HTML links ... done
alterCN html
arrayType html
backgroundCorrect.SNP html
backgroundEstimate html
calculateLOH html
calculateQCarray html
class.SnpSetIllumina html
compareGenotypes html
createCNSummary html
dist.GT html
getDNAindex html
heterozygosity html
heterozygousSNPs html
interactiveCNselect html
normalizeBetweenAlleles.SNP html
normalizeBetweenSubsamples.SNP html
normalizeLoci.SNP html
normalizeWithinArrays.SNP html
pdfChromosomesSmoothCopyNumber html
pdfQC html
plotGoldenGate4OPA html
plotQC html
read.SnpSetIllumina html
removeLowQualityProbes html
removeLowQualitySamples html
renameOPA html
reportGenotypeSegmentation html
reportSamplePanelQC-methods html
segmentate html
setRealCN html
smoothed.intensity html
standardNormalization html
** building package indices
** installing vignettes
** testing if installed package can be loaded
In R CMD INSTALL
install for x64
* installing *source* package 'beadarraySNP' ...
** testing if installed package can be loaded
* MD5 sums
packaged installation of 'beadarraySNP' as beadarraySNP_1.46.0.zip
* DONE (beadarraySNP)
In R CMD INSTALL
In R CMD INSTALL