| Back to Multiple platform build/check report for BioC 3.7 |
|
This page was generated on 2018-10-17 08:34:27 -0400 (Wed, 17 Oct 2018).
| Package 100/1561 | Hostname | OS / Arch | INSTALL | BUILD | CHECK | BUILD BIN | ||||||
| baySeq 2.14.0 Thomas J. Hardcastle
| malbec2 | Linux (Ubuntu 16.04.1 LTS) / x86_64 | OK | OK | OK | |||||||
| tokay2 | Windows Server 2012 R2 Standard / x64 | OK | OK | OK | [ OK ] | |||||||
| merida2 | OS X 10.11.6 El Capitan / x86_64 | OK | OK | OK | OK |
| Package: baySeq |
| Version: 2.14.0 |
| Command: rm -rf baySeq.buildbin-libdir && mkdir baySeq.buildbin-libdir && C:\Users\biocbuild\bbs-3.7-bioc\R\bin\R.exe CMD INSTALL --merge-multiarch --build --library=baySeq.buildbin-libdir baySeq_2.14.0.tar.gz |
| StartedAt: 2018-10-17 06:03:50 -0400 (Wed, 17 Oct 2018) |
| EndedAt: 2018-10-17 06:04:21 -0400 (Wed, 17 Oct 2018) |
| EllapsedTime: 30.1 seconds |
| RetCode: 0 |
| Status: OK |
| PackageFile: baySeq_2.14.0.zip |
| PackageFileSize: 1.165 MiB |
##############################################################################
##############################################################################
###
### Running command:
###
### rm -rf baySeq.buildbin-libdir && mkdir baySeq.buildbin-libdir && C:\Users\biocbuild\bbs-3.7-bioc\R\bin\R.exe CMD INSTALL --merge-multiarch --build --library=baySeq.buildbin-libdir baySeq_2.14.0.tar.gz
###
##############################################################################
##############################################################################
install for i386
* installing *source* package 'baySeq' ...
** R
** data
** inst
** byte-compile and prepare package for lazy loading
** help
*** installing help indices
converting help for package 'baySeq'
finding HTML links ... done
CDPost html
CDPriors html
allModels html
baySeq-classes html
baySeq-package html
bimodalSep html
densityFunction html
densityFunctions html
getLibsizes html
getLikelihoods html
getPosteriors html
getPriors html
getTPs html
makeOrderings html
marginaliseEqual html
marginalisePairwise html
methObservables html
mobAnnotation html
mobData html
pairData html
plotMA.CD html
plotNullPrior html
plotPosteriors html
plotPriors html
selectTop html
simData html
summarisePosteriors html
topCounts html
zimData html
** building package indices
** installing vignettes
** testing if installed package can be loaded
In R CMD INSTALL
install for x64
* installing *source* package 'baySeq' ...
** testing if installed package can be loaded
* MD5 sums
packaged installation of 'baySeq' as baySeq_2.14.0.zip
* DONE (baySeq)
In R CMD INSTALL
In R CMD INSTALL