| Back to Multiple platform build/check report for BioC 3.7 |
|
This page was generated on 2018-10-17 08:47:58 -0400 (Wed, 17 Oct 2018).
| Package 67/1561 | Hostname | OS / Arch | INSTALL | BUILD | CHECK | BUILD BIN | ||||||
| arrayMvout 1.38.0 V. Carey
| malbec2 | Linux (Ubuntu 16.04.1 LTS) / x86_64 | OK | OK | OK | |||||||
| tokay2 | Windows Server 2012 R2 Standard / x64 | OK | OK | OK | OK | |||||||
| merida2 | OS X 10.11.6 El Capitan / x86_64 | OK | OK | OK | [ OK ] |
| Package: arrayMvout |
| Version: 1.38.0 |
| Command: rm -rf arrayMvout.buildbin-libdir && mkdir arrayMvout.buildbin-libdir && /Users/biocbuild/BBS/utils/build-universal.sh arrayMvout_1.38.0.tar.gz /Library/Frameworks/R.framework/Versions/Current/Resources/bin/R arrayMvout.buildbin-libdir |
| StartedAt: 2018-10-17 00:55:20 -0400 (Wed, 17 Oct 2018) |
| EndedAt: 2018-10-17 00:56:07 -0400 (Wed, 17 Oct 2018) |
| EllapsedTime: 47.8 seconds |
| RetCode: 0 |
| Status: OK |
| PackageFile: arrayMvout_1.38.0.tgz |
| PackageFileSize: 633 KiB |
############################################################################## ############################################################################## ### ### Running command: ### ### rm -rf arrayMvout.buildbin-libdir && mkdir arrayMvout.buildbin-libdir && /Users/biocbuild/BBS/utils/build-universal.sh arrayMvout_1.38.0.tar.gz /Library/Frameworks/R.framework/Versions/Current/Resources/bin/R arrayMvout.buildbin-libdir ### ############################################################################## ############################################################################## >>>>>>> >>>>>>> INSTALLATION WITH 'R CMD INSTALL --preclean --no-multiarch --library=arrayMvout.buildbin-libdir arrayMvout_1.38.0.tar.gz' >>>>>>> * installing *source* package ‘arrayMvout’ ... ** R ** data ** inst ** byte-compile and prepare package for lazy loading ** help *** installing help indices ** building package indices ** installing vignettes ** testing if installed package can be loaded * DONE (arrayMvout)