| Back to Multiple platform build/check report for BioC 3.7 | 
 | 
This page was generated on 2018-10-17 08:46:16 -0400 (Wed, 17 Oct 2018).
| Package 39/1561 | Hostname | OS / Arch | INSTALL | BUILD | CHECK | BUILD BIN | ||||||
| altcdfenvs 2.42.0 Laurent Gautier 
 | malbec2 | Linux (Ubuntu 16.04.1 LTS) / x86_64 | OK | OK | OK |  | ||||||
| tokay2 | Windows Server 2012 R2 Standard / x64 | OK | OK | OK | OK |  | ||||||
| merida2 | OS X 10.11.6 El Capitan / x86_64 | OK | OK | OK | [ OK ] |  | 
| Package: altcdfenvs | 
| Version: 2.42.0 | 
| Command: rm -rf altcdfenvs.buildbin-libdir && mkdir altcdfenvs.buildbin-libdir && /Users/biocbuild/BBS/utils/build-universal.sh altcdfenvs_2.42.0.tar.gz /Library/Frameworks/R.framework/Versions/Current/Resources/bin/R altcdfenvs.buildbin-libdir | 
| StartedAt: 2018-10-17 00:53:54 -0400 (Wed, 17 Oct 2018) | 
| EndedAt: 2018-10-17 00:54:40 -0400 (Wed, 17 Oct 2018) | 
| EllapsedTime: 46.0 seconds | 
| RetCode: 0 | 
| Status: OK | 
| PackageFile: altcdfenvs_2.42.0.tgz | 
| PackageFileSize: 742.5 KiB | 
############################################################################## ############################################################################## ### ### Running command: ### ### rm -rf altcdfenvs.buildbin-libdir && mkdir altcdfenvs.buildbin-libdir && /Users/biocbuild/BBS/utils/build-universal.sh altcdfenvs_2.42.0.tar.gz /Library/Frameworks/R.framework/Versions/Current/Resources/bin/R altcdfenvs.buildbin-libdir ### ############################################################################## ############################################################################## >>>>>>> >>>>>>> INSTALLATION WITH 'R CMD INSTALL --preclean --no-multiarch --library=altcdfenvs.buildbin-libdir altcdfenvs_2.42.0.tar.gz' >>>>>>> * installing *source* package ‘altcdfenvs’ ... ** R ** data ** inst ** byte-compile and prepare package for lazy loading NOTE: arguments in definition for validity method for class 'AffyProbesMatch' changed from (obj) to (object) in method for ‘toHypergraph’ with signature ‘"CdfEnvAffy"’: no definition for class “CdfEnvAffy” ** help *** installing help indices ** building package indices ** installing vignettes ** testing if installed package can be loaded * DONE (altcdfenvs)