| Back to Multiple platform build/check report for BioC 3.7 |
|
This page was generated on 2018-10-17 08:50:54 -0400 (Wed, 17 Oct 2018).
| Package 32/1561 | Hostname | OS / Arch | INSTALL | BUILD | CHECK | BUILD BIN | ||||||
| agilp 3.12.0 Benny Chain
| malbec2 | Linux (Ubuntu 16.04.1 LTS) / x86_64 | OK | OK | OK | |||||||
| tokay2 | Windows Server 2012 R2 Standard / x64 | OK | OK | OK | OK | |||||||
| merida2 | OS X 10.11.6 El Capitan / x86_64 | OK | OK | OK | [ OK ] |
| Package: agilp |
| Version: 3.12.0 |
| Command: rm -rf agilp.buildbin-libdir && mkdir agilp.buildbin-libdir && /Users/biocbuild/BBS/utils/build-universal.sh agilp_3.12.0.tar.gz /Library/Frameworks/R.framework/Versions/Current/Resources/bin/R agilp.buildbin-libdir |
| StartedAt: 2018-10-17 00:53:34 -0400 (Wed, 17 Oct 2018) |
| EndedAt: 2018-10-17 00:54:19 -0400 (Wed, 17 Oct 2018) |
| EllapsedTime: 45.1 seconds |
| RetCode: 0 |
| Status: OK |
| PackageFile: agilp_3.12.0.tgz |
| PackageFileSize: 449.2 KiB |
############################################################################## ############################################################################## ### ### Running command: ### ### rm -rf agilp.buildbin-libdir && mkdir agilp.buildbin-libdir && /Users/biocbuild/BBS/utils/build-universal.sh agilp_3.12.0.tar.gz /Library/Frameworks/R.framework/Versions/Current/Resources/bin/R agilp.buildbin-libdir ### ############################################################################## ############################################################################## >>>>>>> >>>>>>> INSTALLATION WITH 'R CMD INSTALL --preclean --no-multiarch --library=agilp.buildbin-libdir agilp_3.12.0.tar.gz' >>>>>>> * installing *source* package ‘agilp’ ... ** R ** inst ** byte-compile and prepare package for lazy loading ** help *** installing help indices ** building package indices ** installing vignettes ** testing if installed package can be loaded * DONE (agilp)