| Back to Multiple platform build/check report for BioC 3.7 |
|
This page was generated on 2018-10-17 08:32:08 -0400 (Wed, 17 Oct 2018).
| Package 25/1561 | Hostname | OS / Arch | INSTALL | BUILD | CHECK | BUILD BIN | ||||||
| affylmGUI 1.54.1 Gordon Smyth
| malbec2 | Linux (Ubuntu 16.04.1 LTS) / x86_64 | OK | OK | OK | |||||||
| tokay2 | Windows Server 2012 R2 Standard / x64 | OK | OK | OK | [ OK ] | |||||||
| merida2 | OS X 10.11.6 El Capitan / x86_64 | OK | OK | OK | OK |
| Package: affylmGUI |
| Version: 1.54.1 |
| Command: rm -rf affylmGUI.buildbin-libdir && mkdir affylmGUI.buildbin-libdir && C:\Users\biocbuild\bbs-3.7-bioc\R\bin\R.exe CMD INSTALL --merge-multiarch --build --library=affylmGUI.buildbin-libdir affylmGUI_1.54.1.tar.gz |
| StartedAt: 2018-10-17 06:00:30 -0400 (Wed, 17 Oct 2018) |
| EndedAt: 2018-10-17 06:01:02 -0400 (Wed, 17 Oct 2018) |
| EllapsedTime: 32.5 seconds |
| RetCode: 0 |
| Status: OK |
| PackageFile: affylmGUI_1.54.1.zip |
| PackageFileSize: 2.1 MiB |
##############################################################################
##############################################################################
###
### Running command:
###
### rm -rf affylmGUI.buildbin-libdir && mkdir affylmGUI.buildbin-libdir && C:\Users\biocbuild\bbs-3.7-bioc\R\bin\R.exe CMD INSTALL --merge-multiarch --build --library=affylmGUI.buildbin-libdir affylmGUI_1.54.1.tar.gz
###
##############################################################################
##############################################################################
install for i386
* installing *source* package 'affylmGUI' ...
** R
** inst
** byte-compile and prepare package for lazy loading
Bioconductor version 3.7 (BiocInstaller 1.30.0), ?biocLite for help
** help
*** installing help indices
converting help for package 'affylmGUI'
finding HTML links ... done
ALGchangeLog html
affylmGUI html
** building package indices
** installing vignettes
** testing if installed package can be loaded
In R CMD INSTALL
install for x64
* installing *source* package 'affylmGUI' ...
** testing if installed package can be loaded
* MD5 sums
packaged installation of 'affylmGUI' as affylmGUI_1.54.1.zip
* DONE (affylmGUI)
In R CMD INSTALL
In R CMD INSTALL