| Back to Multiple platform build/check report for BioC 3.7 | 
 | 
This page was generated on 2018-10-17 08:32:38 -0400 (Wed, 17 Oct 2018).
| Package 21/1561 | Hostname | OS / Arch | INSTALL | BUILD | CHECK | BUILD BIN | ||||||
| affycoretools 1.52.2 James W. MacDonald 
 | malbec2 | Linux (Ubuntu 16.04.1 LTS) / x86_64 | OK | OK | OK |  | ||||||
| tokay2 | Windows Server 2012 R2 Standard / x64 | OK | [ OK ] | WARNINGS | OK |  | ||||||
| merida2 | OS X 10.11.6 El Capitan / x86_64 | OK | OK | OK | OK |  | 
| Package: affycoretools | 
| Version: 1.52.2 | 
| Command: chmod a+r affycoretools -R && C:\Users\biocbuild\bbs-3.7-bioc\R\bin\R.exe CMD build --keep-empty-dirs --no-resave-data affycoretools | 
| StartedAt: 2018-10-16 20:52:15 -0400 (Tue, 16 Oct 2018) | 
| EndedAt: 2018-10-16 20:53:47 -0400 (Tue, 16 Oct 2018) | 
| EllapsedTime: 92.1 seconds | 
| RetCode: 0 | 
| Status: OK | 
| PackageFile: affycoretools_1.52.2.tar.gz | 
| PackageFileSize: 6.571 MiB | 
############################################################################## ############################################################################## ### ### Running command: ### ### chmod a+r affycoretools -R && C:\Users\biocbuild\bbs-3.7-bioc\R\bin\R.exe CMD build --keep-empty-dirs --no-resave-data affycoretools ### ############################################################################## ############################################################################## * checking for file 'affycoretools/DESCRIPTION' ... OK * preparing 'affycoretools': * checking DESCRIPTION meta-information ... OK * installing the package to build vignettes * creating vignettes ... OK * checking for LF line-endings in source and make files and shell scripts * checking for empty or unneeded directories * building 'affycoretools_1.52.2.tar.gz'