| Back to Multiple platform build/check report for BioC 3.7 |
|
This page was generated on 2018-10-17 08:21:40 -0400 (Wed, 17 Oct 2018).
| Package 15/1561 | Hostname | OS / Arch | INSTALL | BUILD | CHECK | BUILD BIN | ||||||
| adSplit 1.50.0 Claudio Lottaz
| malbec2 | Linux (Ubuntu 16.04.1 LTS) / x86_64 | [ OK ] | OK | OK | |||||||
| tokay2 | Windows Server 2012 R2 Standard / x64 | OK | OK | OK | OK | |||||||
| merida2 | OS X 10.11.6 El Capitan / x86_64 | OK | OK | OK | OK |
| Package: adSplit |
| Version: 1.50.0 |
| Command: /home/biocbuild/bbs-3.7-bioc/R/bin/R CMD INSTALL adSplit |
| StartedAt: 2018-10-15 18:04:50 -0400 (Mon, 15 Oct 2018) |
| EndedAt: 2018-10-15 18:05:00 -0400 (Mon, 15 Oct 2018) |
| EllapsedTime: 10.0 seconds |
| RetCode: 0 |
| Status: OK |
##############################################################################
##############################################################################
###
### Running command:
###
### /home/biocbuild/bbs-3.7-bioc/R/bin/R CMD INSTALL adSplit
###
##############################################################################
##############################################################################
* installing to library ‘/home/biocbuild/bbs-3.7-bioc/R/library’
* installing *source* package ‘adSplit’ ...
** libs
g++ -I"/home/biocbuild/bbs-3.7-bioc/R/include" -DNDEBUG -I/usr/local/include -fpic -g -O2 -Wall -c adSplit.cpp -o adSplit.o
adSplit.cpp: In function ‘double tscore(double*, int, int, split&, isis_pars&)’:
adSplit.cpp:256:77: warning: deprecated conversion from string constant to ‘char*’ [-Wwrite-strings]
throw Tomato(__LINE__, "tscore: internal error, shame on the programmer");
^
adSplit.cpp: In function ‘void isis(char**, double*, int*, int*, int*, int*, int*, double*, int*)’:
adSplit.cpp:469:67: warning: deprecated conversion from string constant to ‘char*’ [-Wwrite-strings]
throw Tomato(__LINE__, "isis() called with unknown function");
^
g++ -shared -L/home/biocbuild/bbs-3.7-bioc/R/lib -L/usr/local/lib -o adSplit.so adSplit.o -L/home/biocbuild/bbs-3.7-bioc/R/lib -lR
installing to /home/biocbuild/bbs-3.7-bioc/R/library/adSplit/libs
** R
** data
** byte-compile and prepare package for lazy loading
** help
*** installing help indices
** building package indices
** installing vignettes
** testing if installed package can be loaded
* DONE (adSplit)