| Back to Multiple platform build/check report for BioC 3.7 |
|
This page was generated on 2018-10-17 08:55:02 -0400 (Wed, 17 Oct 2018).
| Package 1549/1561 | Hostname | OS / Arch | INSTALL | BUILD | CHECK | BUILD BIN | ||||||
| XBSeq 1.12.0 Yuanhang Liu
| malbec2 | Linux (Ubuntu 16.04.1 LTS) / x86_64 | OK | OK | OK | |||||||
| tokay2 | Windows Server 2012 R2 Standard / x64 | OK | OK | OK | OK | |||||||
| merida2 | OS X 10.11.6 El Capitan / x86_64 | OK | OK | OK | [ OK ] |
| Package: XBSeq |
| Version: 1.12.0 |
| Command: rm -rf XBSeq.buildbin-libdir && mkdir XBSeq.buildbin-libdir && /Users/biocbuild/BBS/utils/build-universal.sh XBSeq_1.12.0.tar.gz /Library/Frameworks/R.framework/Versions/Current/Resources/bin/R XBSeq.buildbin-libdir |
| StartedAt: 2018-10-17 02:19:51 -0400 (Wed, 17 Oct 2018) |
| EndedAt: 2018-10-17 02:20:49 -0400 (Wed, 17 Oct 2018) |
| EllapsedTime: 57.5 seconds |
| RetCode: 0 |
| Status: OK |
| PackageFile: XBSeq_1.12.0.tgz |
| PackageFileSize: 1.313 MiB |
############################################################################## ############################################################################## ### ### Running command: ### ### rm -rf XBSeq.buildbin-libdir && mkdir XBSeq.buildbin-libdir && /Users/biocbuild/BBS/utils/build-universal.sh XBSeq_1.12.0.tar.gz /Library/Frameworks/R.framework/Versions/Current/Resources/bin/R XBSeq.buildbin-libdir ### ############################################################################## ############################################################################## >>>>>>> >>>>>>> INSTALLATION WITH 'R CMD INSTALL --preclean --no-multiarch --library=XBSeq.buildbin-libdir XBSeq_1.12.0.tar.gz' >>>>>>> * installing *source* package ‘XBSeq’ ... ** R ** data ** inst ** byte-compile and prepare package for lazy loading ** help *** installing help indices ** building package indices ** installing vignettes ** testing if installed package can be loaded * DONE (XBSeq)