| Back to Multiple platform build/check report for BioC 3.7 |
|
This page was generated on 2018-10-17 08:38:22 -0400 (Wed, 17 Oct 2018).
| Package 1524/1561 | Hostname | OS / Arch | INSTALL | BUILD | CHECK | BUILD BIN | ||||||
| UNDO 1.22.0 Niya Wang
| malbec2 | Linux (Ubuntu 16.04.1 LTS) / x86_64 | OK | OK | OK | |||||||
| tokay2 | Windows Server 2012 R2 Standard / x64 | OK | OK | OK | [ OK ] | |||||||
| merida2 | OS X 10.11.6 El Capitan / x86_64 | OK | OK | OK | OK |
| Package: UNDO |
| Version: 1.22.0 |
| Command: rm -rf UNDO.buildbin-libdir && mkdir UNDO.buildbin-libdir && C:\Users\biocbuild\bbs-3.7-bioc\R\bin\R.exe CMD INSTALL --merge-multiarch --build --library=UNDO.buildbin-libdir UNDO_1.22.0.tar.gz |
| StartedAt: 2018-10-17 07:06:10 -0400 (Wed, 17 Oct 2018) |
| EndedAt: 2018-10-17 07:06:26 -0400 (Wed, 17 Oct 2018) |
| EllapsedTime: 16.7 seconds |
| RetCode: 0 |
| Status: OK |
| PackageFile: UNDO_1.22.0.zip |
| PackageFileSize: 1.043 MiB |
##############################################################################
##############################################################################
###
### Running command:
###
### rm -rf UNDO.buildbin-libdir && mkdir UNDO.buildbin-libdir && C:\Users\biocbuild\bbs-3.7-bioc\R\bin\R.exe CMD INSTALL --merge-multiarch --build --library=UNDO.buildbin-libdir UNDO_1.22.0.tar.gz
###
##############################################################################
##############################################################################
install for i386
* installing *source* package 'UNDO' ...
** R
** data
** inst
** byte-compile and prepare package for lazy loading
** help
*** installing help indices
converting help for package 'UNDO'
finding HTML links ... done
BiologicalMixMCF7HS27 html
NumericalMixMCF7HS27 html
NumericalMixingMatrix html
PureMCF7HS27 html
UNDO-package html
calc_E1 html
dimension_reduction html
gene_expression_input html
marker_gene_selection html
mixing_matrix_computation html
two_source_deconv html
** building package indices
** installing vignettes
** testing if installed package can be loaded
In R CMD INSTALL
install for x64
* installing *source* package 'UNDO' ...
** testing if installed package can be loaded
* MD5 sums
packaged installation of 'UNDO' as UNDO_1.22.0.zip
* DONE (UNDO)
In R CMD INSTALL
In R CMD INSTALL