| Back to Multiple platform build/check report for BioC 3.7 | 
  | 
This page was generated on 2018-10-17 08:44:31 -0400 (Wed, 17 Oct 2018).
| Package 1475/1561 | Hostname | OS / Arch | INSTALL | BUILD | CHECK | BUILD BIN | ||||||
| TFARM 1.2.0 Liuba Nausicaa Martino 
  | malbec2 | Linux (Ubuntu 16.04.1 LTS) / x86_64 | OK | OK | OK | |||||||
| tokay2 | Windows Server 2012 R2 Standard / x64 | OK | OK | OK | [ OK ] | |||||||
| merida2 | OS X 10.11.6 El Capitan / x86_64 | OK | OK | OK | OK | 
| Package: TFARM | 
| Version: 1.2.0 | 
| Command: rm -rf TFARM.buildbin-libdir && mkdir TFARM.buildbin-libdir && C:\Users\biocbuild\bbs-3.7-bioc\R\bin\R.exe CMD INSTALL --merge-multiarch --build --library=TFARM.buildbin-libdir TFARM_1.2.0.tar.gz | 
| StartedAt: 2018-10-17 07:04:00 -0400 (Wed, 17 Oct 2018) | 
| EndedAt: 2018-10-17 07:04:51 -0400 (Wed, 17 Oct 2018) | 
| EllapsedTime: 50.7 seconds | 
| RetCode: 0 | 
| Status: OK | 
| PackageFile: TFARM_1.2.0.zip | 
| PackageFileSize: 513.3 KiB | 
##############################################################################
##############################################################################
###
### Running command:
###
###   rm -rf TFARM.buildbin-libdir && mkdir TFARM.buildbin-libdir && C:\Users\biocbuild\bbs-3.7-bioc\R\bin\R.exe CMD INSTALL --merge-multiarch --build --library=TFARM.buildbin-libdir TFARM_1.2.0.tar.gz
###
##############################################################################
##############################################################################
install for i386
* installing *source* package 'TFARM' ...
** R
** data
*** moving datasets to lazyload DB
** inst
** byte-compile and prepare package for lazy loading
** help
*** installing help indices
  converting help for package 'TFARM'
    finding HTML links ... done
    DELTA                                   html  
    IComp                                   html  
    IMP                                     html  
    IMP_Z                                   html  
    IPCA                                    html  
    I_c_2                                   html  
    MCF7_chr1                               html  
    TF_Imp                                  html  
    distribViz                              html  
    heatI                                   html  
    imp_FOSL2                               html  
    items                                   html  
    itemset                                 html  
    p_TFs                                   html  
    presAbs                                 html  
    r_FOSL2                                 html  
    r_TEAD4                                 html  
    r_noFOSL2                               html  
    rulesGen                                html  
    rulesTF                                 html  
    rulesTF0                                html  
    search_rule                             html  
** building package indices
** installing vignettes
** testing if installed package can be loaded
In R CMD INSTALL
install for x64
* installing *source* package 'TFARM' ...
** testing if installed package can be loaded
* MD5 sums
packaged installation of 'TFARM' as TFARM_1.2.0.zip
* DONE (TFARM)
In R CMD INSTALL
In R CMD INSTALL