| Back to Multiple platform build/check report for BioC 3.7 |
|
This page was generated on 2018-10-17 08:37:35 -0400 (Wed, 17 Oct 2018).
| Package 1456/1561 | Hostname | OS / Arch | INSTALL | BUILD | CHECK | BUILD BIN | ||||||
| SwimR 1.18.0 Randy Blakely
| malbec2 | Linux (Ubuntu 16.04.1 LTS) / x86_64 | OK | OK | OK | |||||||
| tokay2 | Windows Server 2012 R2 Standard / x64 | OK | OK | OK | [ OK ] | |||||||
| merida2 | OS X 10.11.6 El Capitan / x86_64 | OK | OK | OK | OK |
| Package: SwimR |
| Version: 1.18.0 |
| Command: rm -rf SwimR.buildbin-libdir && mkdir SwimR.buildbin-libdir && C:\Users\biocbuild\bbs-3.7-bioc\R\bin\R.exe CMD INSTALL --merge-multiarch --build --library=SwimR.buildbin-libdir SwimR_1.18.0.tar.gz |
| StartedAt: 2018-10-17 07:03:21 -0400 (Wed, 17 Oct 2018) |
| EndedAt: 2018-10-17 07:03:29 -0400 (Wed, 17 Oct 2018) |
| EllapsedTime: 8.6 seconds |
| RetCode: 0 |
| Status: OK |
| PackageFile: SwimR_1.18.0.zip |
| PackageFileSize: 1.802 MiB |
##############################################################################
##############################################################################
###
### Running command:
###
### rm -rf SwimR.buildbin-libdir && mkdir SwimR.buildbin-libdir && C:\Users\biocbuild\bbs-3.7-bioc\R\bin\R.exe CMD INSTALL --merge-multiarch --build --library=SwimR.buildbin-libdir SwimR_1.18.0.tar.gz
###
##############################################################################
##############################################################################
install for i386
* installing *source* package 'SwimR' ...
** R
** inst
** byte-compile and prepare package for lazy loading
** help
*** installing help indices
converting help for package 'SwimR'
finding HTML links ... done
SwimR-package html
SwimR html
createFrequencyMatrix html
** building package indices
** installing vignettes
** testing if installed package can be loaded
In R CMD INSTALL
install for x64
* installing *source* package 'SwimR' ...
** testing if installed package can be loaded
* MD5 sums
packaged installation of 'SwimR' as SwimR_1.18.0.zip
* DONE (SwimR)
In R CMD INSTALL
In R CMD INSTALL