| Back to Multiple platform build/check report for BioC 3.7 | 
 | 
This page was generated on 2018-10-17 08:29:36 -0400 (Wed, 17 Oct 2018).
| Package 1436/1561 | Hostname | OS / Arch | INSTALL | BUILD | CHECK | BUILD BIN | ||||||
| StarBioTrek 1.6.0 Claudia Cava 
 | malbec2 | Linux (Ubuntu 16.04.1 LTS) / x86_64 | OK | [ OK ] | OK |  | ||||||
| tokay2 | Windows Server 2012 R2 Standard / x64 | OK | OK | OK | OK |  | ||||||
| merida2 | OS X 10.11.6 El Capitan / x86_64 | OK | OK | OK | OK |  | 
| Package: StarBioTrek | 
| Version: 1.6.0 | 
| Command: /home/biocbuild/bbs-3.7-bioc/R/bin/R CMD build --keep-empty-dirs --no-resave-data StarBioTrek | 
| StartedAt: 2018-10-15 21:23:27 -0400 (Mon, 15 Oct 2018) | 
| EndedAt: 2018-10-15 21:27:31 -0400 (Mon, 15 Oct 2018) | 
| EllapsedTime: 243.5 seconds | 
| RetCode: 0 | 
| Status: OK | 
| PackageFile: StarBioTrek_1.6.0.tar.gz | 
| PackageFileSize: 10.54 MiB | 
##############################################################################
##############################################################################
###
### Running command:
###
###   /home/biocbuild/bbs-3.7-bioc/R/bin/R CMD build --keep-empty-dirs --no-resave-data StarBioTrek
###
##############################################################################
##############################################################################
* checking for file ‘StarBioTrek/DESCRIPTION’ ... OK
* preparing ‘StarBioTrek’:
* checking DESCRIPTION meta-information ... OK
* installing the package to build vignettes
* creating vignettes ... OK
Warning: ‘inst/doc’ file
    ‘StarBioTrek_Application_Examples.R’
  ignored as vignettes have been rebuilt.
  Run R CMD build with --no-build-vignettes to prevent rebuilding.
* checking for LF line-endings in source and make files and shell scripts
* checking for empty or unneeded directories
* looking to see if a ‘data/datalist’ file should be added
* building ‘StarBioTrek_1.6.0.tar.gz’