| Back to Multiple platform build/check report for BioC 3.7 |
|
This page was generated on 2018-10-17 08:41:55 -0400 (Wed, 17 Oct 2018).
| Package 1409/1561 | Hostname | OS / Arch | INSTALL | BUILD | CHECK | BUILD BIN | ||||||
| SpidermiR 1.10.0 Claudia Cava
| malbec2 | Linux (Ubuntu 16.04.1 LTS) / x86_64 | OK | OK | WARNINGS | |||||||
| tokay2 | Windows Server 2012 R2 Standard / x64 | OK | OK | WARNINGS | [ OK ] | |||||||
| merida2 | OS X 10.11.6 El Capitan / x86_64 | OK | OK | WARNINGS | OK |
| Package: SpidermiR |
| Version: 1.10.0 |
| Command: rm -rf SpidermiR.buildbin-libdir && mkdir SpidermiR.buildbin-libdir && C:\Users\biocbuild\bbs-3.7-bioc\R\bin\R.exe CMD INSTALL --merge-multiarch --build --library=SpidermiR.buildbin-libdir SpidermiR_1.10.0.tar.gz |
| StartedAt: 2018-10-17 07:01:42 -0400 (Wed, 17 Oct 2018) |
| EndedAt: 2018-10-17 07:02:32 -0400 (Wed, 17 Oct 2018) |
| EllapsedTime: 50.4 seconds |
| RetCode: 0 |
| Status: OK |
| PackageFile: SpidermiR_1.10.0.zip |
| PackageFileSize: 1.385 MiB |
##############################################################################
##############################################################################
###
### Running command:
###
### rm -rf SpidermiR.buildbin-libdir && mkdir SpidermiR.buildbin-libdir && C:\Users\biocbuild\bbs-3.7-bioc\R\bin\R.exe CMD INSTALL --merge-multiarch --build --library=SpidermiR.buildbin-libdir SpidermiR_1.10.0.tar.gz
###
##############################################################################
##############################################################################
install for i386
* installing *source* package 'SpidermiR' ...
** R
** data
*** moving datasets to lazyload DB
** inst
** byte-compile and prepare package for lazy loading
Note: possible error in 'simpleNetwork(NetworkData, ': unused argument (textColour = "black")
** help
*** installing help indices
converting help for package 'SpidermiR'
finding HTML links ... done
Case_Study1_loading_1_network html
Case_Study1_loading_2_network html
Case_Study1_loading_3_network html
Case_Study1_loading_4_network html
Case_Study2_loading_1_network html
Case_Study2_loading_2_network html
Case_Study2_loading_3_network html
Data_CANCER_normUQ_filt html
SpidermiR html
SpidermiRanalyze_Community_detection html
SpidermiRanalyze_Community_detection_bi
html
SpidermiRanalyze_Community_detection_net
html
SpidermiRanalyze_degree_centrality html
SpidermiRanalyze_direct_net html
SpidermiRanalyze_direct_subnetwork html
SpidermiRanalyze_mirna_gene_complnet html
SpidermiRanalyze_mirna_network html
SpidermiRanalyze_mirnanet_pharm html
SpidermiRanalyze_subnetwork_neigh html
SpidermiRdownload_miRNAextra_cir html
SpidermiRdownload_miRNAprediction html
SpidermiRdownload_miRNAvalidate html
SpidermiRdownload_net html
SpidermiRdownload_pharmacomir html
SpidermiRprepare_NET html
SpidermiRquery_disease html
SpidermiRquery_networks_type html
SpidermiRquery_spec_networks html
SpidermiRquery_species html
SpidermiRvisualize_3Dbarplot html
SpidermiRvisualize_BI html
SpidermiRvisualize_adj_matrix html
SpidermiRvisualize_degree_dist html
SpidermiRvisualize_direction html
SpidermiRvisualize_mirnanet html
SpidermiRvisualize_plot_target html
dataClin html
** building package indices
** installing vignettes
** testing if installed package can be loaded
In R CMD INSTALL
install for x64
* installing *source* package 'SpidermiR' ...
** testing if installed package can be loaded
* MD5 sums
packaged installation of 'SpidermiR' as SpidermiR_1.10.0.zip
* DONE (SpidermiR)
In R CMD INSTALL
In R CMD INSTALL