| Back to Multiple platform build/check report for BioC 3.7 |
|
This page was generated on 2018-10-17 08:37:45 -0400 (Wed, 17 Oct 2018).
| Package 1375/1561 | Hostname | OS / Arch | INSTALL | BUILD | CHECK | BUILD BIN | ||||||
| SimBindProfiles 1.18.0 Bettina Fischer
| malbec2 | Linux (Ubuntu 16.04.1 LTS) / x86_64 | OK | OK | OK | |||||||
| tokay2 | Windows Server 2012 R2 Standard / x64 | OK | OK | WARNINGS | [ OK ] | |||||||
| merida2 | OS X 10.11.6 El Capitan / x86_64 | OK | OK | OK | OK |
| Package: SimBindProfiles |
| Version: 1.18.0 |
| Command: rm -rf SimBindProfiles.buildbin-libdir && mkdir SimBindProfiles.buildbin-libdir && C:\Users\biocbuild\bbs-3.7-bioc\R\bin\R.exe CMD INSTALL --merge-multiarch --build --library=SimBindProfiles.buildbin-libdir SimBindProfiles_1.18.0.tar.gz |
| StartedAt: 2018-10-17 07:00:14 -0400 (Wed, 17 Oct 2018) |
| EndedAt: 2018-10-17 07:00:36 -0400 (Wed, 17 Oct 2018) |
| EllapsedTime: 22.2 seconds |
| RetCode: 0 |
| Status: OK |
| PackageFile: SimBindProfiles_1.18.0.zip |
| PackageFileSize: 1.793 MiB |
##############################################################################
##############################################################################
###
### Running command:
###
### rm -rf SimBindProfiles.buildbin-libdir && mkdir SimBindProfiles.buildbin-libdir && C:\Users\biocbuild\bbs-3.7-bioc\R\bin\R.exe CMD INSTALL --merge-multiarch --build --library=SimBindProfiles.buildbin-libdir SimBindProfiles_1.18.0.tar.gz
###
##############################################################################
##############################################################################
install for i386
* installing *source* package 'SimBindProfiles' ...
** R
** data
** inst
** byte-compile and prepare package for lazy loading
** help
*** installing help indices
converting help for package 'SimBindProfiles'
finding HTML links ... done
SGR html
SimBindProfiles-package html
compensationRegions html
eSetScatterPlot html
findBoundCutoff html
increasedBindingRegions html
pairwiseRegions html
plotBoundProbes html
probeAnnoFromESet html
Rd warning: C:/Users/biocbuild/bbs-3.7-bioc/tmpdir/RtmpUzQOWe/R.INSTALL16a4205c6c4a/SimBindProfiles/man/probeAnnoFromESet.Rd:33: file link 'probeAnno-class' in package 'Ringo' does not exist and so has been treated as a topic
probeLengthPlot html
readSgrFiles html
Rd warning: C:/Users/biocbuild/bbs-3.7-bioc/tmpdir/RtmpUzQOWe/R.INSTALL16a4205c6c4a/SimBindProfiles/man/readSgrFiles.Rd:29: file link 'ExpressionSet' in package 'Biobase' does not exist and so has been treated as a topic
threewayRegions html
** building package indices
** installing vignettes
** testing if installed package can be loaded
In R CMD INSTALL
install for x64
* installing *source* package 'SimBindProfiles' ...
** testing if installed package can be loaded
* MD5 sums
packaged installation of 'SimBindProfiles' as SimBindProfiles_1.18.0.zip
* DONE (SimBindProfiles)
In R CMD INSTALL
In R CMD INSTALL