| Back to Multiple platform build/check report for BioC 3.7 |
|
This page was generated on 2018-10-17 08:39:05 -0400 (Wed, 17 Oct 2018).
| Package 1338/1561 | Hostname | OS / Arch | INSTALL | BUILD | CHECK | BUILD BIN | ||||||
| SemDist 1.14.0 Ian Gonzalez
| malbec2 | Linux (Ubuntu 16.04.1 LTS) / x86_64 | OK | OK | OK | |||||||
| tokay2 | Windows Server 2012 R2 Standard / x64 | OK | OK | OK | [ OK ] | |||||||
| merida2 | OS X 10.11.6 El Capitan / x86_64 | OK | OK | OK | OK |
| Package: SemDist |
| Version: 1.14.0 |
| Command: rm -rf SemDist.buildbin-libdir && mkdir SemDist.buildbin-libdir && C:\Users\biocbuild\bbs-3.7-bioc\R\bin\R.exe CMD INSTALL --merge-multiarch --build --library=SemDist.buildbin-libdir SemDist_1.14.0.tar.gz |
| StartedAt: 2018-10-17 06:58:27 -0400 (Wed, 17 Oct 2018) |
| EndedAt: 2018-10-17 06:58:46 -0400 (Wed, 17 Oct 2018) |
| EllapsedTime: 19.2 seconds |
| RetCode: 0 |
| Status: OK |
| PackageFile: SemDist_1.14.0.zip |
| PackageFileSize: 1.946 MiB |
##############################################################################
##############################################################################
###
### Running command:
###
### rm -rf SemDist.buildbin-libdir && mkdir SemDist.buildbin-libdir && C:\Users\biocbuild\bbs-3.7-bioc\R\bin\R.exe CMD INSTALL --merge-multiarch --build --library=SemDist.buildbin-libdir SemDist_1.14.0.tar.gz
###
##############################################################################
##############################################################################
install for i386
* installing *source* package 'SemDist' ...
** R
** data
** inst
** byte-compile and prepare package for lazy loading
** help
*** installing help indices
converting help for package 'SemDist'
finding HTML links ... done
IAccr html
RUMIcurve html
computeIA html
findRUMI html
parentcnt html
termcnt html
** building package indices
** installing vignettes
** testing if installed package can be loaded
In R CMD INSTALL
install for x64
* installing *source* package 'SemDist' ...
** testing if installed package can be loaded
* MD5 sums
packaged installation of 'SemDist' as SemDist_1.14.0.zip
* DONE (SemDist)
In R CMD INSTALL
In R CMD INSTALL