Back to Multiple platform build/check report for BioC 3.7 |
|
This page was generated on 2018-10-17 08:40:20 -0400 (Wed, 17 Oct 2018).
Package 1452/1561 | Hostname | OS / Arch | INSTALL | BUILD | CHECK | BUILD BIN | ||||||
SVM2CRM 1.12.0 Guidantonio Malagoli Tagliazucchi
| malbec2 | Linux (Ubuntu 16.04.1 LTS) / x86_64 | OK | OK | WARNINGS | |||||||
tokay2 | Windows Server 2012 R2 Standard / x64 | OK | OK | ERROR | [ OK ] | |||||||
merida2 | OS X 10.11.6 El Capitan / x86_64 | OK | OK | WARNINGS | OK |
Package: SVM2CRM |
Version: 1.12.0 |
Command: rm -rf SVM2CRM.buildbin-libdir && mkdir SVM2CRM.buildbin-libdir && C:\Users\biocbuild\bbs-3.7-bioc\R\bin\R.exe CMD INSTALL --merge-multiarch --build --library=SVM2CRM.buildbin-libdir SVM2CRM_1.12.0.tar.gz |
StartedAt: 2018-10-17 07:03:12 -0400 (Wed, 17 Oct 2018) |
EndedAt: 2018-10-17 07:03:51 -0400 (Wed, 17 Oct 2018) |
EllapsedTime: 38.8 seconds |
RetCode: 0 |
Status: OK |
PackageFile: SVM2CRM_1.12.0.zip |
PackageFileSize: 299.1 KiB |
############################################################################## ############################################################################## ### ### Running command: ### ### rm -rf SVM2CRM.buildbin-libdir && mkdir SVM2CRM.buildbin-libdir && C:\Users\biocbuild\bbs-3.7-bioc\R\bin\R.exe CMD INSTALL --merge-multiarch --build --library=SVM2CRM.buildbin-libdir SVM2CRM_1.12.0.tar.gz ### ############################################################################## ############################################################################## install for i386 * installing *source* package 'SVM2CRM' ... ** R ** inst ** byte-compile and prepare package for lazy loading ** help *** installing help indices converting help for package 'SVM2CRM' finding HTML links ... done cisREfindbed html createBed html createSVMinput html featSelectionWithKmeans html findFeatureOverlap html frequencyHM html getSignal html performanceSVM html plotFscore html plotROC html predictionGW html smoothInputFS html tuningParametersCombROC html ** building package indices ** installing vignettes ** testing if installed package can be loaded In R CMD INSTALL install for x64 * installing *source* package 'SVM2CRM' ... ** testing if installed package can be loaded * MD5 sums packaged installation of 'SVM2CRM' as SVM2CRM_1.12.0.zip * DONE (SVM2CRM) In R CMD INSTALL In R CMD INSTALL