| Back to Multiple platform build/check report for BioC 3.7 |
|
This page was generated on 2018-10-17 08:32:46 -0400 (Wed, 17 Oct 2018).
| Package 1395/1561 | Hostname | OS / Arch | INSTALL | BUILD | CHECK | BUILD BIN | ||||||
| SNPchip 2.26.0 Robert Scharpf
| malbec2 | Linux (Ubuntu 16.04.1 LTS) / x86_64 | OK | OK | OK | |||||||
| tokay2 | Windows Server 2012 R2 Standard / x64 | OK | OK | OK | [ OK ] | |||||||
| merida2 | OS X 10.11.6 El Capitan / x86_64 | OK | OK | OK | OK |
| Package: SNPchip |
| Version: 2.26.0 |
| Command: rm -rf SNPchip.buildbin-libdir && mkdir SNPchip.buildbin-libdir && C:\Users\biocbuild\bbs-3.7-bioc\R\bin\R.exe CMD INSTALL --merge-multiarch --build --library=SNPchip.buildbin-libdir SNPchip_2.26.0.tar.gz |
| StartedAt: 2018-10-17 07:01:07 -0400 (Wed, 17 Oct 2018) |
| EndedAt: 2018-10-17 07:01:33 -0400 (Wed, 17 Oct 2018) |
| EllapsedTime: 25.8 seconds |
| RetCode: 0 |
| Status: OK |
| PackageFile: SNPchip_2.26.0.zip |
| PackageFileSize: 516.7 KiB |
##############################################################################
##############################################################################
###
### Running command:
###
### rm -rf SNPchip.buildbin-libdir && mkdir SNPchip.buildbin-libdir && C:\Users\biocbuild\bbs-3.7-bioc\R\bin\R.exe CMD INSTALL --merge-multiarch --build --library=SNPchip.buildbin-libdir SNPchip_2.26.0.tar.gz
###
##############################################################################
##############################################################################
install for i386
* installing *source* package 'SNPchip' ...
** R
** inst
** byte-compile and prepare package for lazy loading
** help
*** installing help indices
converting help for package 'SNPchip'
finding HTML links ... done
arrangeFigs html
arrangeSideBySide html
centromere html
dataFrame-methods html
dataFrame html
defunct html
getCytoband html
latticeFigs html
plotIdiogram html
xypanel html
xypanelBaf html
xyplot html
xyplotLrrBaf html
** building package indices
** installing vignettes
** testing if installed package can be loaded
In R CMD INSTALL
install for x64
* installing *source* package 'SNPchip' ...
** testing if installed package can be loaded
* MD5 sums
packaged installation of 'SNPchip' as SNPchip_2.26.0.zip
* DONE (SNPchip)
In R CMD INSTALL
In R CMD INSTALL